| facsDorit 1.4.0 Florian Hahne
 
 | Snapshot Date: 2008-04-10 00:02:38 -0700 (Thu, 10 Apr 2008) |  | URL: https://hedgehog.fhcrc.org/bioc-data/trunk/experiment/pkgs/facsDorit |  | Last Changed Rev: 142 / Revision: 624 |  | Last Changed Date: 2006-09-28 18:17:09 -0700 (Thu, 28 Sep 2006) | 
 | lamb1 | Linux (SUSE 10.1) / x86_64 | OK | OK |  | 
| lemming | Windows Server 2003 (32-bit) / x64 | OK | OK | [ OK ] | 
| pitt | Mac OS X Tiger (10.4.11) / i386 | OK | OK | OK | 
installing R.css in D:/biocbld/bbs-2.1-data-experiment/meat/facsDorit.buildbin-libdir
Using auto-selected zip options ''
---------- Making package facsDorit ------------
  adding build stamp to DESCRIPTION
  installing R files
  installing inst files
  installing man source files
  installing indices
  installing help
 >>> Building/Updating help pages for package 'facsDorit'
     Formats: text html latex example chm 
  facsDorit                         text    html    latex   example chm
Microsoft HTML Help Compiler 4.74.8702
Compiling d:\biocbld\bbs-2.1-data-experiment\meat\R.INSTALL.2472\facsDorit\chm\facsDorit.chm
Compile time: 0 minutes, 0 seconds
2	Topics
2	Local links
0	Internet links
1	Graphic
Created d:\biocbld\bbs-2.1-data-experiment\meat\R.INSTALL.2472\facsDorit\chm\facsDorit.chm, 16,476 bytes
Compression increased file by 8,846 bytes.
  adding MD5 sums
packaged installation of package 'facsDorit' as facsDorit_1.4.0.zip
* DONE (facsDorit)