| Back to the "Multiple platform build/check report" | A B C D E F G H I J K L M N O [P] Q R S T U V W X Y Z | 
| Package 398/553 | Hostname | OS / Arch | BUILD | CHECK | BUILD BIN | ||||
| pgUtils 1.28.0 Johannes Rainer 
 | lamb2 | Linux (openSUSE 11.4) / x86_64 | OK | OK | |||||
| moscato2 | Windows Server 2008 R2 Enterprise SP1 (64-bit) / x64 | N O T S U P P O R T E D | |||||||
| petty | Mac OS X Leopard (10.5.8) / i386 | [ OK ] | OK | OK | |||||
| Package: pgUtils | 
| Version: 1.28.0 | 
| Command: /Library/Frameworks/R.framework/Versions/2.15/Resources/bin/R CMD build --keep-empty-dirs --no-resave-data pgUtils | 
| StartedAt: 2012-09-23 21:20:10 -0700 (Sun, 23 Sep 2012) | 
| EndedAt: 2012-09-23 21:20:12 -0700 (Sun, 23 Sep 2012) | 
| EllapsedTime: 2.0 seconds | 
| RetCode: 0 | 
| Status: OK | 
| PackageFile: pgUtils_1.28.0.tar.gz | 
| PackageFileSize: 91.68 KiB | 
* checking for file 'pgUtils/DESCRIPTION' ... OK * preparing 'pgUtils': * checking DESCRIPTION meta-information ... OK * checking for LF line-endings in source and make files * checking for empty or unneeded directories * building 'pgUtils_1.28.0.tar.gz'