| pcaMethods 1.48.0 Henning Redestig
 
 | Snapshot Date: 2013-03-24 16:21:20 -0700 (Sun, 24 Mar 2013) |  | URL: https://hedgehog.fhcrc.org/bioconductor/branches/RELEASE_2_11/madman/Rpacks/pcaMethods |  | Last Changed Rev: 70050 / Revision: 74773 |  | Last Changed Date: 2012-10-01 15:16:24 -0700 (Mon, 01 Oct 2012) | 
 | lamb1 | Linux (openSUSE 12.1) / x86_64 | OK | OK |  | 
| moscato1 | Windows Server 2008 R2 Enterprise SP1 (64-bit) / x64 | OK | OK | [ OK ] | 
| perceval | Mac OS X Leopard (10.5.8) / i386 | OK | OK | OK | 
install for i386
* installing *source* package 'pcaMethods' ...
** libs
g++ -m32 -I"D:/biocbld/BBS-2˜1.11-/R/include" -DNDEBUG    -I"D:/biocbld/bbs-2.11-bioc/R/library/Rcpp/include" -I"d:/RCompile/CRANpkg/extralibs64/local/include"     -O2 -Wall  -mtune=core2 -c nipals.cpp -o nipals.o
g++ -m32 -shared -s -static-libgcc -o pcaMethods.dll tmp.def nipals.o D:/biocbld/bbs-2.11-bioc/R/library/Rcpp/lib/i386/libRcpp.a -Ld:/RCompile/CRANpkg/extralibs64/local/lib/i386 -Ld:/RCompile/CRANpkg/extralibs64/local/lib -LD:/biocbld/BBS-2˜1.11-/R/bin/i386 -lR
installing to D:/biocbld/bbs-2.11-bioc/meat/pcaMethods.buildbin-libdir/pcaMethods/libs/i386
** R
** data
** inst
** preparing package for lazy loading
Creating a new generic function for 'loadings' in package 'pcaMethods'
Creating a generic function for 'print' from package 'base' in package 'pcaMethods'
Creating a generic function for 'biplot' from package 'stats' in package 'pcaMethods'
Creating a generic function for 'summary' from package 'base' in package 'pcaMethods'
Creating a generic function for 'predict' from package 'stats' in package 'pcaMethods'
Creating a generic function for 'resid' from package 'stats' in package 'pcaMethods'
Creating a generic function for 'fitted' from package 'stats' in package 'pcaMethods'
Creating a generic function for 'plot' from package 'graphics' in package 'pcaMethods'
** help
*** installing help indices
** building package indices
** installing vignettes
   'missingValues.Rnw' 
   'outliers.Rnw' 
   'pcaMethods.Rnw' 
** testing if installed package can be loaded
install for x64
* installing *source* package 'pcaMethods' ...
** libs
g++ -m64 -I"D:/biocbld/BBS-2˜1.11-/R/include" -DNDEBUG    -I"D:/biocbld/bbs-2.11-bioc/R/library/Rcpp/include" -I"d:/RCompile/CRANpkg/extralibs64/local/include"     -O2 -Wall  -mtune=core2 -c nipals.cpp -o nipals.o
g++ -m64 -shared -s -static-libgcc -o pcaMethods.dll tmp.def nipals.o D:/biocbld/bbs-2.11-bioc/R/library/Rcpp/lib/x64/libRcpp.a -Ld:/RCompile/CRANpkg/extralibs64/local/lib/x64 -Ld:/RCompile/CRANpkg/extralibs64/local/lib -LD:/biocbld/BBS-2˜1.11-/R/bin/x64 -lR
installing to D:/biocbld/bbs-2.11-bioc/meat/pcaMethods.buildbin-libdir/pcaMethods/libs/x64
** testing if installed package can be loaded
* MD5 sums
packaged installation of 'pcaMethods' as pcaMethods_1.48.0.zip
* DONE (pcaMethods)