All our mirrors of open source software are available via http, https, ftp and an onion service. More information about our mirrors including statistics and contact information is available on our mirror info pages.
For information about dotsrc.org and our other services please go to our website.
| File Name ↓ | File Size ↓ | Date ↓ |
|---|---|---|
| Parent directory/ | - | - |
| ALL/ | - | 2013-03-25 00:05:27 |
| ALLMLL/ | - | 2013-03-25 00:05:27 |
| AffymetrixDataTestFiles/ | - | 2013-03-25 00:05:27 |
| AmpAffyExample/ | - | 2013-03-25 00:05:27 |
| BeadArrayUseCases/ | - | 2013-03-25 00:05:34 |
| CCl4/ | - | 2013-03-25 00:05:29 |
| CLL/ | - | 2013-03-25 00:05:27 |
| ChIPXpressData/ | - | 2013-03-25 00:05:36 |
| DLBCL/ | - | 2013-03-25 00:05:32 |
| EatonEtAlChIPseq/ | - | 2013-03-25 00:05:32 |
| FunciSNP.data/ | - | 2013-03-25 00:05:35 |
| GGdata/ | - | 2013-03-25 00:05:28 |
| GSVAdata/ | - | 2013-03-25 00:05:33 |
| GWASdata/ | - | 2013-03-25 00:05:34 |
| HEEBOdata/ | - | 2013-03-25 00:05:28 |
| HIVcDNAvantWout03/ | - | 2013-03-25 00:05:28 |
| ITALICSData/ | - | 2013-03-25 00:05:31 |
| IlluminaHumanMethylation450kmanifest/ | - | 2012-08-30 01:17:21 |
| Iyer517/ | - | 2013-03-25 00:05:28 |
| KEGGdzPathwaysGEO/ | - | 2013-03-25 00:05:36 |
| LiebermanAidenHiC2009/ | - | 2013-03-25 00:05:33 |
| LungCancerLines/ | - | 2013-03-25 00:05:36 |
| MAQCsubset/ | - | 2013-03-25 00:05:28 |
| MAQCsubsetAFX/ | - | 2013-03-25 00:05:30 |
| MAQCsubsetILM/ | - | 2013-03-25 00:05:30 |
| MEDIPSData/ | - | 2013-03-25 00:05:36 |
| MEEBOdata/ | - | 2013-03-25 00:05:28 |
| Mulder2012/ | - | 2013-03-25 00:05:35 |
| NCIgraphData/ | - | 2013-03-25 00:05:33 |
| Neve2006/ | - | 2013-03-25 00:05:29 |
| PREDAsampledata/ | - | 2013-03-25 00:05:34 |
| PWMEnrich.Dmelanogaster.background/ | - | 2013-03-25 00:05:35 |
| ProData/ | - | 2013-03-25 00:05:29 |
| RMassBankData/ | - | 2013-03-25 00:05:36 |
| RNASeqDataSubset/ | - | 2013-03-25 00:05:36 |
| RNAinteractMAPK/ | - | 2013-03-25 00:05:32 |
| RnaSeqTutorial/ | - | 2013-03-25 00:05:34 |
| SNAData/ | - | 2013-03-25 00:05:29 |
| SpikeIn/ | - | 2013-03-25 00:05:29 |
| SpikeInSubset/ | - | 2013-03-25 00:05:29 |
| TCGAMethylation450k/ | - | 2013-03-25 00:05:34 |
| TargetSearchData/ | - | 2013-03-25 00:05:31 |
| XhybCasneuf/ | - | 2013-03-25 00:05:30 |
| affycompData/ | - | 2013-03-25 00:05:32 |
| affydata/ | - | 2013-03-25 00:05:27 |
| beadarrayExampleData/ | - | 2013-03-25 00:05:34 |
| beta7/ | - | 2013-03-25 00:05:27 |
| bladderbatch/ | - | 2013-03-25 00:05:34 |
| breastCancerMAINZ/ | - | 2013-03-25 00:05:33 |
| breastCancerNKI/ | - | 2013-03-25 00:05:33 |
| breastCancerTRANSBIG/ | - | 2013-03-25 00:05:33 |
| breastCancerUNT/ | - | 2013-03-25 00:05:33 |
| breastCancerUPP/ | - | 2013-03-25 00:05:33 |
| breastCancerVDX/ | - | 2013-03-25 00:05:33 |
| bronchialIL13/ | - | 2013-03-25 00:05:27 |
| bsseqData/ | - | 2013-03-25 00:05:35 |
| cancerdata/ | - | 2013-03-25 00:05:35 |
| ccTutorial/ | - | 2013-03-25 00:05:31 |
| ceu1kg/ | - | 2013-03-25 00:05:32 |
| ceuhm3/ | - | 2013-03-25 00:05:32 |
| cgdv17/ | - | 2013-03-25 00:05:35 |
| charmData/ | - | 2013-03-25 00:05:32 |
| cheung2010/ | - | 2013-03-25 00:05:33 |
| cnvGSAdata/ | - | 2013-03-25 00:05:35 |
| colonCA/ | - | 2013-03-25 00:05:27 |
| davidTiling/ | - | 2013-03-25 00:05:27 |
| dressCheck/ | - | 2013-03-25 00:05:32 |
| dsQTL/ | - | 2013-03-25 00:05:35 |
| dyebiasexamples/ | - | 2013-03-25 00:05:31 |
| ecoliLeucine/ | - | 2013-03-25 00:05:27 |
| encoDnaseI/ | - | 2013-03-25 00:05:30 |
| estrogen/ | - | 2013-03-25 00:05:27 |
| faahKO/ | - | 2013-03-25 00:05:27 |
| fabiaData/ | - | 2013-03-25 00:05:36 |
| facsDorit/ | - | 2013-03-25 00:05:28 |
| ffpeExampleData/ | - | 2013-03-25 00:05:35 |
| fibroEset/ | - | 2013-03-25 00:05:28 |
| flowWorkspaceData/ | - | 2013-03-25 00:05:33 |
| frmaExampleData/ | - | 2013-03-25 00:05:31 |
| gageData/ | - | 2013-03-25 00:05:32 |
| gaschYHS/ | - | 2013-03-25 00:05:28 |
| gatingMLData/ | - | 2013-03-25 00:05:28 |
| gcspikelite/ | - | 2013-03-25 00:05:31 |
| geneLenDataBase/ | - | 2013-03-25 00:05:32 |
| ggtut/ | - | 2013-03-25 00:05:33 |
| golubEsets/ | - | 2013-03-25 00:05:28 |
| hapmap100khind/ | - | 2013-03-25 00:05:30 |
| hapmap100kxba/ | - | 2013-03-25 00:05:29 |
| hapmap500knsp/ | - | 2013-03-25 00:05:30 |
| hapmap500ksty/ | - | 2013-03-25 00:05:30 |
| hapmapsnp5/ | - | 2013-03-25 00:05:30 |
| hapmapsnp6/ | - | 2013-03-25 00:05:30 |
| harbChIP/ | - | 2013-03-25 00:05:28 |
| hgu133abarcodevecs/ | - | 2013-03-25 00:05:32 |
| hgu133afrmavecs/ | - | 2012-05-16 01:02:14 |
| hgu133plus2barcodevecs/ | - | 2013-03-25 00:05:31 |
| hgu133plus2frmavecs/ | - | 2012-05-16 01:02:14 |
| hgu2beta7/ | - | 2013-03-25 00:05:28 |
| hmyriB36/ | - | 2013-03-25 00:05:31 |
| humanStemCell/ | - | 2013-03-25 00:05:31 |
| ind1KG/ | - | 2013-03-25 00:05:31 |
| iontreeData/ | - | 2013-03-25 00:05:34 |
| kidpack/ | - | 2013-03-25 00:05:28 |
| leeBamViews/ | - | 2013-03-25 00:05:32 |
| lumiBarnes/ | - | 2013-03-25 00:05:29 |
| lungExpression/ | - | 2013-03-25 00:05:29 |
| maqcExpression4plex/ | - | 2013-03-25 00:05:30 |
| miRNATarget/ | - | 2013-03-25 00:05:35 |
| minfiData/ | - | 2013-03-25 00:05:34 |
| mosaicsExample/ | - | 2013-03-25 00:05:32 |
| mouse4302barcodevecs/ | - | 2013-03-25 00:05:31 |
| mouse4302frmavecs/ | - | 2012-05-16 01:02:14 |
| msdata/ | - | 2013-03-25 00:05:30 |
| mvoutData/ | - | 2013-03-25 00:05:31 |
| pasilla/ | - | 2013-03-25 00:05:33 |
| pasillaBamSubset/ | - | 2013-03-25 00:05:35 |
| pcaGoPromoter.Hs.hg19/ | - | 2013-03-25 00:05:34 |
| pcaGoPromoter.Mm.mm9/ | - | 2013-03-25 00:05:34 |
| pcaGoPromoter.Rn.rn4/ | - | 2013-03-25 00:05:35 |
| pd.atdschip.tiling/ | - | 2013-03-25 00:05:36 |
| ppiData/ | - | 2013-03-25 00:05:28 |
| pumadata/ | - | 2013-03-25 00:05:29 |
| rheumaticConditionWOLLBOLD/ | - | 2013-03-25 00:05:35 |
| serumStimulation/ | - | 2013-03-25 00:05:34 |
| simpIntLists/ | - | 2013-03-25 00:05:33 |
| stemHypoxia/ | - | 2013-03-25 00:05:36 |
| stjudem/ | - | 2013-03-25 00:05:29 |
| synapterdata/ | - | 2013-03-25 00:05:35 |
| tinesath1cdf/ | - | 2013-03-25 00:05:30 |
| tinesath1probe/ | - | 2013-03-25 00:05:30 |
| tweeDEseqCountData/ | - | 2013-03-25 00:05:34 |
| waveTilingData/ | - | 2013-03-25 00:05:35 |
| yeastCC/ | - | 2013-03-25 00:05:29 |
| yeastExpData/ | - | 2013-03-25 00:05:29 |
| yeastGSData/ | - | 2013-03-25 00:05:30 |
| yeastNagalakshmi/ | - | 2013-03-25 00:05:34 |
| yeastRNASeq/ | - | 2013-03-25 00:05:31 |
| STATUS_DB.txt | 36.4 KiB | 2013-03-25 00:04:53 |
| index.html | 366.3 KiB | 2013-03-25 00:05:38 |
| lamb1-NodeInfo.html | 4.7 KiB | 2013-03-25 00:05:37 |
| lamb1-R-instpkgs.html | 65.6 KiB | 2013-03-25 00:05:37 |
| lamb1-index.html | 81.5 KiB | 2013-03-25 00:05:36 |
| meat-index.txt | 26.3 KiB | 2013-03-25 00:04:46 |
| moscato1-NodeInfo.html | 4.9 KiB | 2013-03-25 00:05:37 |
| moscato1-R-instpkgs.html | 64.9 KiB | 2013-03-25 00:05:37 |
| moscato1-index.html | 96.0 KiB | 2013-03-25 00:05:37 |
| perceval-NodeInfo.html | 4.9 KiB | 2013-03-25 00:05:37 |
| perceval-R-instpkgs.html | 65.5 KiB | 2013-03-25 00:05:37 |
| perceval-index.html | 96.3 KiB | 2013-03-25 00:05:37 |
| pitt-NodeInfo.html | 4.9 KiB | 2012-06-22 01:04:42 |
| pitt-R-instpkgs.html | 62.0 KiB | 2012-06-22 01:04:42 |
| pitt-index.html | 87.0 KiB | 2012-06-22 01:04:41 |
| report.css | 6.8 KiB | 2013-03-25 00:04:53 |
| report.js | 3.9 KiB | 2013-03-25 00:04:53 |
| report.tgz | 486.9 KiB | 2013-03-25 00:05:39 |