All our mirrors of open source software are available via http, https, ftp and an onion service. More information about our mirrors including statistics and contact information is available on our mirror info pages.
For information about dotsrc.org and our other services please go to our website.
| File Name ↓ | File Size ↓ | Date ↓ |
|---|---|---|
| Parent directory/ | - | - |
| ALL/ | - | 2013-10-08 23:07:29 |
| ALLMLL/ | - | 2013-10-08 23:07:29 |
| ARRmData/ | - | 2013-10-08 23:07:37 |
| AffymetrixDataTestFiles/ | - | 2013-10-08 23:07:29 |
| AmpAffyExample/ | - | 2013-10-08 23:07:29 |
| BeadArrayUseCases/ | - | 2013-10-08 23:07:35 |
| CCl4/ | - | 2013-10-08 23:07:31 |
| CLL/ | - | 2013-10-08 23:07:29 |
| ChIPXpressData/ | - | 2013-10-08 23:07:36 |
| ConnectivityMap/ | - | 2013-10-08 23:07:37 |
| DLBCL/ | - | 2013-10-08 23:07:33 |
| DREAM4/ | - | 2013-10-08 23:07:37 |
| DrugVsDiseasedata/ | - | 2013-10-08 23:07:37 |
| DvDdata/ | - | 2013-10-08 23:07:37 |
| EatonEtAlChIPseq/ | - | 2013-10-08 23:07:33 |
| FANTOM3and4CAGE/ | - | 2013-10-08 23:07:37 |
| FunciSNP.data/ | - | 2013-10-08 23:07:36 |
| GGdata/ | - | 2013-10-08 23:07:30 |
| GSVAdata/ | - | 2013-10-08 23:07:34 |
| GWASdata/ | - | 2013-10-08 23:07:35 |
| HD2013SGI/ | - | 2013-10-08 23:07:37 |
| HEEBOdata/ | - | 2013-10-08 23:07:30 |
| HIVcDNAvantWout03/ | - | 2013-10-08 23:07:30 |
| ITALICSData/ | - | 2013-10-08 23:07:32 |
| Iyer517/ | - | 2013-10-08 23:07:30 |
| KEGGdzPathwaysGEO/ | - | 2013-10-08 23:07:36 |
| LiebermanAidenHiC2009/ | - | 2013-10-08 23:07:34 |
| LungCancerLines/ | - | 2013-10-08 23:07:36 |
| MAQCsubset/ | - | 2013-10-08 23:07:30 |
| MAQCsubsetAFX/ | - | 2013-10-08 23:07:32 |
| MAQCsubsetILM/ | - | 2013-10-08 23:07:32 |
| MEDIPSData/ | - | 2013-10-08 23:07:36 |
| MEEBOdata/ | - | 2013-10-08 23:07:30 |
| MMDiffBamSubset/ | - | 2013-10-08 23:07:38 |
| Mulder2012/ | - | 2013-10-08 23:07:36 |
| NCIgraphData/ | - | 2013-10-08 23:07:34 |
| Neve2006/ | - | 2013-10-08 23:07:31 |
| PREDAsampledata/ | - | 2013-10-08 23:07:34 |
| PWMEnrich.Dmelanogaster.background/ | - | 2013-10-08 23:07:36 |
| PathNetData/ | - | 2013-10-08 23:07:37 |
| ProData/ | - | 2013-10-08 23:07:30 |
| RIPSeekerData/ | - | 2013-10-08 23:07:36 |
| RMassBankData/ | - | 2013-10-08 23:07:36 |
| RNASeqDataSubset/ | - | 2013-03-24 23:05:11 |
| RNAinteractMAPK/ | - | 2013-10-08 23:07:34 |
| RNAseqData.HNRNPC.bam.chr14/ | - | 2013-10-08 23:07:38 |
| RNAseqData.HeLa.bam.chr14/ | - | 2013-10-08 23:07:38 |
| RforProteomics/ | - | 2013-10-08 23:07:37 |
| RnaSeqTutorial/ | - | 2013-10-08 23:07:35 |
| SNAData/ | - | 2013-10-08 23:07:31 |
| SNAGEEdata/ | - | 2013-10-08 23:07:36 |
| SomatiCAData/ | - | 2013-10-08 23:07:37 |
| SpikeIn/ | - | 2013-10-08 23:07:31 |
| SpikeInSubset/ | - | 2013-10-08 23:07:31 |
| TBX20BamSubset/ | - | 2013-10-08 23:07:36 |
| TCGAMethylation450k/ | - | 2013-10-08 23:07:35 |
| TargetSearchData/ | - | 2013-10-08 23:07:32 |
| XhybCasneuf/ | - | 2013-10-08 23:07:31 |
| affycompData/ | - | 2013-10-08 23:07:34 |
| affydata/ | - | 2013-10-08 23:07:29 |
| antiProfilesData/ | - | 2013-10-08 23:07:37 |
| beadarrayExampleData/ | - | 2013-10-08 23:07:35 |
| beta7/ | - | 2013-10-08 23:07:29 |
| bladderbatch/ | - | 2013-10-08 23:07:35 |
| breastCancerMAINZ/ | - | 2013-10-08 23:07:34 |
| breastCancerNKI/ | - | 2013-10-08 23:07:34 |
| breastCancerTRANSBIG/ | - | 2013-10-08 23:07:34 |
| breastCancerUNT/ | - | 2013-10-08 23:07:34 |
| breastCancerUPP/ | - | 2013-10-08 23:07:34 |
| breastCancerVDX/ | - | 2013-10-08 23:07:34 |
| bronchialIL13/ | - | 2013-10-08 23:07:29 |
| bsseqData/ | - | 2013-10-08 23:07:36 |
| cMap2data/ | - | 2013-10-08 23:07:37 |
| cancerdata/ | - | 2013-10-08 23:07:36 |
| ccTutorial/ | - | 2013-10-08 23:07:32 |
| ceu1kg/ | - | 2013-10-08 23:07:33 |
| ceuhm3/ | - | 2013-10-08 23:07:33 |
| cgdv17/ | - | 2013-10-08 23:07:35 |
| charmData/ | - | 2013-10-08 23:07:33 |
| cheung2010/ | - | 2013-10-08 23:07:34 |
| cnvGSAdata/ | - | 2013-10-08 23:07:35 |
| colonCA/ | - | 2013-10-08 23:07:29 |
| curatedOvarianData/ | - | 2013-10-08 23:07:37 |
| davidTiling/ | - | 2013-10-08 23:07:30 |
| dressCheck/ | - | 2013-10-08 23:07:33 |
| dsQTL/ | - | 2013-10-08 23:07:35 |
| dyebiasexamples/ | - | 2013-10-08 23:07:32 |
| ecoliLeucine/ | - | 2013-10-08 23:07:30 |
| encoDnaseI/ | - | 2013-10-08 23:07:32 |
| estrogen/ | - | 2013-10-08 23:07:30 |
| faahKO/ | - | 2013-10-08 23:07:30 |
| fabiaData/ | - | 2013-10-08 23:07:36 |
| facsDorit/ | - | 2013-10-08 23:07:30 |
| ffpeExampleData/ | - | 2013-10-08 23:07:35 |
| fibroEset/ | - | 2013-10-08 23:07:30 |
| flowWorkspaceData/ | - | 2013-10-08 23:07:34 |
| frmaExampleData/ | - | 2013-10-08 23:07:33 |
| gageData/ | - | 2013-10-08 23:07:33 |
| gaschYHS/ | - | 2013-10-08 23:07:30 |
| gatingMLData/ | - | 2013-10-08 23:07:30 |
| gcspikelite/ | - | 2013-10-08 23:07:32 |
| geneLenDataBase/ | - | 2013-10-08 23:07:33 |
| ggtut/ | - | 2013-10-08 23:07:34 |
| golubEsets/ | - | 2013-10-08 23:07:30 |
| hapmap100khind/ | - | 2013-10-08 23:07:31 |
| hapmap100kxba/ | - | 2013-10-08 23:07:31 |
| hapmap500knsp/ | - | 2013-10-08 23:07:31 |
| hapmap500ksty/ | - | 2013-10-08 23:07:31 |
| hapmapsnp5/ | - | 2013-10-08 23:07:32 |
| hapmapsnp6/ | - | 2013-10-08 23:07:32 |
| harbChIP/ | - | 2013-10-08 23:07:30 |
| hgu133abarcodevecs/ | - | 2013-10-08 23:07:33 |
| hgu133plus2barcodevecs/ | - | 2013-10-08 23:07:33 |
| hgu2beta7/ | - | 2013-10-08 23:07:30 |
| hmyriB36/ | - | 2013-10-08 23:07:32 |
| humanStemCell/ | - | 2013-10-08 23:07:32 |
| ind1KG/ | - | 2013-10-08 23:07:32 |
| iontreeData/ | - | 2013-10-08 23:07:35 |
| kidpack/ | - | 2013-10-08 23:07:30 |
| leeBamViews/ | - | 2013-10-08 23:07:33 |
| leukemiasEset/ | - | 2013-10-08 23:07:37 |
| lumiBarnes/ | - | 2013-10-08 23:07:31 |
| lungExpression/ | - | 2013-10-08 23:07:31 |
| maqcExpression4plex/ | - | 2013-10-08 23:07:31 |
| miRNATarget/ | - | 2013-10-08 23:07:36 |
| minfiData/ | - | 2013-10-08 23:07:35 |
| mosaicsExample/ | - | 2013-10-08 23:07:34 |
| mouse4302barcodevecs/ | - | 2013-10-08 23:07:33 |
| msdata/ | - | 2013-10-08 23:07:32 |
| mvoutData/ | - | 2013-10-08 23:07:32 |
| pRolocdata/ | - | 2013-10-08 23:07:37 |
| parathyroid/ | - | 2013-10-08 23:07:37 |
| parathyroidSE/ | - | 2013-10-08 23:07:37 |
| pasilla/ | - | 2013-10-08 23:07:34 |
| pasillaBamSubset/ | - | 2013-10-08 23:07:35 |
| pcaGoPromoter.Hs.hg19/ | - | 2013-10-08 23:07:35 |
| pcaGoPromoter.Mm.mm9/ | - | 2013-10-08 23:07:35 |
| pcaGoPromoter.Rn.rn4/ | - | 2013-10-08 23:07:35 |
| pd.atdschip.tiling/ | - | 2013-10-08 23:07:36 |
| ppiData/ | - | 2013-10-08 23:07:30 |
| prebsdata/ | - | 2013-10-08 23:07:38 |
| pumadata/ | - | 2013-10-08 23:07:31 |
| rheumaticConditionWOLLBOLD/ | - | 2013-10-08 23:07:35 |
| serumStimulation/ | - | 2013-10-08 23:07:35 |
| simpIntLists/ | - | 2013-10-08 23:07:34 |
| stemHypoxia/ | - | 2013-10-08 23:07:36 |
| stjudem/ | - | 2013-10-08 23:07:31 |
| synapterdata/ | - | 2013-10-08 23:07:36 |
| tinesath1cdf/ | - | 2013-10-08 23:07:32 |
| tinesath1probe/ | - | 2013-10-08 23:07:32 |
| tweeDEseqCountData/ | - | 2013-10-08 23:07:35 |
| waveTilingData/ | - | 2013-10-08 23:07:36 |
| yeastCC/ | - | 2013-10-08 23:07:31 |
| yeastExpData/ | - | 2013-10-08 23:07:31 |
| yeastGSData/ | - | 2013-10-08 23:07:32 |
| yeastNagalakshmi/ | - | 2013-10-08 23:07:34 |
| yeastRNASeq/ | - | 2013-10-08 23:07:33 |
| STATUS_DB.txt | 42.0 KiB | 2013-10-08 23:06:58 |
| george2-NodeInfo.html | 4.8 KiB | 2013-10-08 23:07:39 |
| george2-R-instpkgs.html | 87.2 KiB | 2013-10-08 23:07:39 |
| george2-index.html | 96.2 KiB | 2013-10-08 23:07:38 |
| index.html | 430.4 KiB | 2013-10-08 23:07:40 |
| lamb2-NodeInfo.html | 4.9 KiB | 2013-01-18 00:04:02 |
| lamb2-R-instpkgs.html | 67.0 KiB | 2013-01-18 00:04:02 |
| lamb2-index.html | 86.1 KiB | 2013-01-18 00:04:01 |
| meat-index.txt | 30.9 KiB | 2013-10-08 23:06:42 |
| moscato2-NodeInfo.html | 4.9 KiB | 2013-10-08 23:07:39 |
| moscato2-R-instpkgs.html | 86.8 KiB | 2013-10-08 23:07:39 |
| moscato2-index.html | 111.9 KiB | 2013-10-08 23:07:39 |
| petty-NodeInfo.html | 5.2 KiB | 2013-10-08 23:07:39 |
| petty-R-instpkgs.html | 86.9 KiB | 2013-10-08 23:07:39 |
| petty-index.html | 109.3 KiB | 2013-10-08 23:07:39 |
| report.css | 7.0 KiB | 2013-10-08 23:06:58 |
| report.js | 3.9 KiB | 2013-10-08 23:06:58 |
| report.tgz | 619.0 KiB | 2013-10-08 23:07:41 |