| RNAseqData.HNRNPC.bam.chr14 0.1.3 H. Pages
 
 | Snapshot Date: 2013-10-08 10:15:19 -0700 (Tue, 08 Oct 2013) |  | URL: https://hedgehog.fhcrc.org/bioc-data/trunk/experiment/pkgs/RNAseqData.HNRNPC.bam.chr14 |  | Last Changed Rev: 2369 / Revision: 2510 |  | Last Changed Date: 2013-06-05 12:47:33 -0700 (Wed, 05 Jun 2013) | 
 | george2 | Linux (Ubuntu 12.04.1 LTS) / x86_64 | OK | WARNINGS |  | 
| moscato2 | Windows Server 2008 R2 Enterprise SP1 (64-bit) / x64 | OK | WARNINGS | OK | 
| petty | Mac OS X Snow Leopard (10.6.8) / x86_64 | OK | WARNINGS | [ OK ] | 
>>>>>>> 
>>>>>>> INSTALLATION WITH 'R CMD INSTALL --preclean --no-multiarch --library=RNAseqData.HNRNPC.bam.chr14.buildbin-libdir RNAseqData.HNRNPC.bam.chr14_0.1.3.tar.gz'
>>>>>>> 
* installing *source* package 'RNAseqData.HNRNPC.bam.chr14' ...
** R
** inst
** preparing package for lazy loading
** help
*** installing help indices
** building package indices
** testing if installed package can be loaded
* DONE (RNAseqData.HNRNPC.bam.chr14)