| Back to the "Multiple platform build/check report" |
This page was generated on 2013-10-08 16:07:18 -0700 (Tue, 08 Oct 2013).
| Package 146/156 | Hostname | OS / Arch | BUILD | CHECK | BUILD BIN | ||||
| TCGAMethylation450k 0.99.4 Sean Davis
| george2 | Linux (Ubuntu 12.04.1 LTS) / x86_64 | [ OK ] | OK | |||||
| moscato2 | Windows Server 2008 R2 Enterprise SP1 (64-bit) / x64 | OK | OK | OK | |||||
| petty | Mac OS X Snow Leopard (10.6.8) / x86_64 | OK | OK | OK |
| Package: TCGAMethylation450k |
| Version: 0.99.4 |
| Command: /home/biocbuild/bbs-2.12-bioc/R/bin/R CMD build --keep-empty-dirs --no-resave-data TCGAMethylation450k |
| StartedAt: 2013-10-08 12:06:22 -0700 (Tue, 08 Oct 2013) |
| EndedAt: 2013-10-08 12:06:49 -0700 (Tue, 08 Oct 2013) |
| EllapsedTime: 27.0 seconds |
| RetCode: 0 |
| Status: OK |
| PackageFile: TCGAMethylation450k_0.99.4.tar.gz |
| PackageFileSize: 81.02 MiB |
* checking for file ‘TCGAMethylation450k/DESCRIPTION’ ... OK * preparing ‘TCGAMethylation450k’: * checking DESCRIPTION meta-information ... OK * checking for LF line-endings in source and make files * checking for empty or unneeded directories * building ‘TCGAMethylation450k_0.99.4.tar.gz’