All our mirrors of open source software are available via http, https, ftp and an onion service. More information about our mirrors including statistics and contact information is available on our mirror info pages.
For information about dotsrc.org and our other services please go to our website.
| File Name ↓ | File Size ↓ | Date ↓ |
|---|---|---|
| Parent directory/ | - | - |
| ALL/ | - | 2014-04-05 00:29:09 |
| ALLMLL/ | - | 2014-04-05 00:29:09 |
| ARRmData/ | - | 2014-04-05 00:29:20 |
| AffymetrixDataTestFiles/ | - | 2014-04-05 00:29:09 |
| AmpAffyExample/ | - | 2014-04-05 00:29:09 |
| BeadArrayUseCases/ | - | 2014-04-05 00:29:17 |
| CCl4/ | - | 2014-04-05 00:29:12 |
| CLL/ | - | 2014-04-05 00:29:10 |
| ChAMPdata/ | - | 2014-04-05 00:29:22 |
| ChIPXpressData/ | - | 2014-04-05 00:29:19 |
| ConnectivityMap/ | - | 2014-04-05 00:29:20 |
| DLBCL/ | - | 2014-04-05 00:29:14 |
| DREAM4/ | - | 2014-04-05 00:29:20 |
| DeSousa2013/ | - | 2014-04-05 00:29:20 |
| DonaPLLP2013/ | - | 2014-04-05 00:29:21 |
| DrugVsDiseasedata/ | - | 2014-04-05 00:29:20 |
| DvDdata/ | - | 2014-04-05 00:29:20 |
| EatonEtAlChIPseq/ | - | 2014-04-05 00:29:14 |
| FANTOM3and4CAGE/ | - | 2014-04-05 00:29:20 |
| Fletcher2013a/ | - | 2014-04-05 00:29:21 |
| Fletcher2013b/ | - | 2014-04-05 00:29:21 |
| FlowSorted.Blood.450k/ | - | 2014-04-05 00:29:21 |
| FunciSNP.data/ | - | 2014-04-05 00:29:18 |
| GGdata/ | - | 2014-04-05 00:29:10 |
| GSVAdata/ | - | 2014-04-05 00:29:15 |
| GWASdata/ | - | 2014-04-05 00:29:16 |
| HD2013SGI/ | - | 2014-04-05 00:29:20 |
| HEEBOdata/ | - | 2014-04-05 00:29:10 |
| HIVcDNAvantWout03/ | - | 2014-04-05 00:29:10 |
| Hiiragi2013/ | - | 2014-04-05 00:29:20 |
| ITALICSData/ | - | 2014-04-05 00:29:13 |
| Illumina450ProbeVariants.db/ | - | 2014-04-05 00:29:22 |
| IlluminaDataTestFiles/ | - | 2014-04-05 00:29:21 |
| Iyer517/ | - | 2014-04-05 00:29:10 |
| JASPAR2014/ | - | 2014-04-05 00:29:22 |
| KEGGdzPathwaysGEO/ | - | 2014-04-05 00:29:19 |
| LiebermanAidenHiC2009/ | - | 2014-04-05 00:29:15 |
| LungCancerACvsSCCGEO/ | - | 2014-04-05 00:29:21 |
| LungCancerLines/ | - | 2014-04-05 00:29:19 |
| MAQCsubset/ | - | 2014-04-05 00:29:11 |
| MAQCsubsetAFX/ | - | 2014-04-05 00:29:12 |
| MAQCsubsetILM/ | - | 2014-04-05 00:29:13 |
| MEDIPSData/ | - | 2014-04-05 00:29:19 |
| MEEBOdata/ | - | 2014-04-05 00:29:11 |
| MMDiffBamSubset/ | - | 2014-04-05 00:29:20 |
| Mulder2012/ | - | 2014-04-05 00:29:18 |
| NCIgraphData/ | - | 2014-04-05 00:29:15 |
| Neve2006/ | - | 2014-04-05 00:29:12 |
| PREDAsampledata/ | - | 2014-04-05 00:29:16 |
| PWMEnrich.Dmelanogaster.background/ | - | 2014-04-05 00:29:18 |
| PWMEnrich.Hsapiens.background/ | - | 2014-04-05 00:29:22 |
| PWMEnrich.Mmusculus.background/ | - | 2014-04-05 00:29:22 |
| PathNetData/ | - | 2014-04-05 00:29:20 |
| ProData/ | - | 2014-04-05 00:29:11 |
| RIPSeekerData/ | - | 2014-04-05 00:29:19 |
| RMassBankData/ | - | 2014-04-05 00:29:19 |
| RNAinteractMAPK/ | - | 2014-04-05 00:29:14 |
| RNAseqData.HNRNPC.bam.chr14/ | - | 2014-04-05 00:29:21 |
| RNAseqData.HeLa.bam.chr14/ | - | 2014-04-05 00:29:21 |
| RforProteomics/ | - | 2014-04-05 00:29:19 |
| RnaSeqTutorial/ | - | 2014-04-05 00:29:17 |
| SNAData/ | - | 2014-04-05 00:29:11 |
| SNAGEEdata/ | - | 2014-04-05 00:29:19 |
| SomatiCAData/ | - | 2014-04-05 00:29:20 |
| SomaticCancerAlterations/ | - | 2014-04-05 00:29:22 |
| SpikeIn/ | - | 2014-04-05 00:29:11 |
| SpikeInSubset/ | - | 2014-04-05 00:29:11 |
| TBX20BamSubset/ | - | 2014-04-05 00:29:19 |
| TCGAMethylation450k/ | - | 2014-04-05 00:29:16 |
| TargetScoreData/ | - | 2014-04-05 00:29:21 |
| TargetSearchData/ | - | 2014-04-05 00:29:13 |
| XhybCasneuf/ | - | 2014-04-05 00:29:12 |
| affycompData/ | - | 2014-04-05 00:29:14 |
| affydata/ | - | 2014-04-05 00:29:09 |
| antiProfilesData/ | - | 2014-04-05 00:29:20 |
| beadarrayExampleData/ | - | 2014-04-05 00:29:16 |
| beta7/ | - | 2014-04-05 00:29:09 |
| bladderbatch/ | - | 2014-04-05 00:29:16 |
| breastCancerMAINZ/ | - | 2014-04-05 00:29:14 |
| breastCancerNKI/ | - | 2014-04-05 00:29:14 |
| breastCancerTRANSBIG/ | - | 2014-04-05 00:29:15 |
| breastCancerUNT/ | - | 2014-04-05 00:29:15 |
| breastCancerUPP/ | - | 2014-04-05 00:29:15 |
| breastCancerVDX/ | - | 2014-04-05 00:29:15 |
| bronchialIL13/ | - | 2014-04-05 00:29:09 |
| bsseqData/ | - | 2014-04-05 00:29:18 |
| cMap2data/ | - | 2014-04-05 00:29:20 |
| cancerdata/ | - | 2014-04-05 00:29:18 |
| ccTutorial/ | - | 2014-04-05 00:29:13 |
| ceu1kg/ | - | 2014-04-05 00:29:14 |
| ceu1kgv/ | - | 2014-04-05 00:29:22 |
| ceuhm3/ | - | 2014-04-05 00:29:14 |
| cgdv17/ | - | 2014-04-05 00:29:18 |
| charmData/ | - | 2014-04-05 00:29:13 |
| cheung2010/ | - | 2014-04-05 00:29:15 |
| chipenrich.data/ | - | 2014-04-05 00:29:21 |
| cnvGSAdata/ | - | 2014-04-05 00:29:18 |
| colonCA/ | - | 2014-04-05 00:29:10 |
| curatedBladderData/ | - | 2014-04-05 00:29:21 |
| curatedOvarianData/ | - | 2014-04-05 00:29:20 |
| davidTiling/ | - | 2014-04-05 00:29:10 |
| dressCheck/ | - | 2014-04-05 00:29:14 |
| dsQTL/ | - | 2014-04-05 00:29:18 |
| dyebiasexamples/ | - | 2014-04-05 00:29:13 |
| ecoliLeucine/ | - | 2014-04-05 00:29:10 |
| encoDnaseI/ | - | 2014-04-05 00:29:12 |
| estrogen/ | - | 2014-04-05 00:29:10 |
| faahKO/ | - | 2014-04-05 00:29:10 |
| fabiaData/ | - | 2014-04-05 00:29:19 |
| facsDorit/ | - | 2014-04-05 00:29:10 |
| ffpeExampleData/ | - | 2014-04-05 00:29:18 |
| fibroEset/ | - | 2014-04-05 00:29:10 |
| flowFitExampleData/ | - | 2014-04-05 00:29:21 |
| flowWorkspaceData/ | - | 2014-04-05 00:29:15 |
| frmaExampleData/ | - | 2014-04-05 00:29:13 |
| gageData/ | - | 2014-04-05 00:29:14 |
| gaschYHS/ | - | 2014-04-05 00:29:10 |
| gatingMLData/ | - | 2014-04-05 00:29:10 |
| gcspikelite/ | - | 2014-04-05 00:29:13 |
| geneLenDataBase/ | - | 2014-04-05 00:29:14 |
| ggtut/ | - | 2014-04-05 00:29:15 |
| golubEsets/ | - | 2014-04-05 00:29:10 |
| h5vcData/ | - | 2014-04-05 00:29:22 |
| hapmap100khind/ | - | 2014-04-05 00:29:12 |
| hapmap100kxba/ | - | 2014-04-05 00:29:12 |
| hapmap500knsp/ | - | 2014-04-05 00:29:12 |
| hapmap500ksty/ | - | 2014-04-05 00:29:12 |
| hapmapsnp5/ | - | 2014-04-05 00:29:12 |
| hapmapsnp6/ | - | 2014-04-05 00:29:13 |
| harbChIP/ | - | 2014-04-05 00:29:10 |
| hgu133abarcodevecs/ | - | 2014-04-05 00:29:13 |
| hgu133plus2barcodevecs/ | - | 2014-04-05 00:29:13 |
| hgu2beta7/ | - | 2014-04-05 00:29:10 |
| hmyriB36/ | - | 2014-04-05 00:29:13 |
| humanStemCell/ | - | 2014-04-05 00:29:13 |
| ind1KG/ | - | 2014-04-05 00:29:13 |
| iontreeData/ | - | 2014-04-05 00:29:16 |
| kidpack/ | - | 2014-04-05 00:29:11 |
| leeBamViews/ | - | 2014-04-05 00:29:13 |
| leukemiasEset/ | - | 2014-04-05 00:29:20 |
| lumiBarnes/ | - | 2014-04-05 00:29:11 |
| lungExpression/ | - | 2014-04-05 00:29:11 |
| mammaPrintData/ | - | 2014-04-05 00:29:21 |
| maqcExpression4plex/ | - | 2014-04-05 00:29:12 |
| miRNATarget/ | - | 2014-04-05 00:29:18 |
| minfiData/ | - | 2014-04-05 00:29:16 |
| mitoODEdata/ | - | 2014-04-05 00:29:21 |
| mosaicsExample/ | - | 2014-04-05 00:29:14 |
| mouse4302barcodevecs/ | - | 2014-04-05 00:29:13 |
| msdata/ | - | 2014-04-05 00:29:12 |
| mvoutData/ | - | 2014-04-05 00:29:13 |
| pRolocdata/ | - | 2014-04-05 00:29:19 |
| parathyroid/ | - | 2014-04-05 00:29:19 |
| parathyroidSE/ | - | 2014-04-05 00:29:20 |
| pasilla/ | - | 2014-04-05 00:29:15 |
| pasillaBamSubset/ | - | 2014-04-05 00:29:18 |
| pcaGoPromoter.Hs.hg19/ | - | 2014-04-05 00:29:17 |
| pcaGoPromoter.Mm.mm9/ | - | 2014-04-05 00:29:17 |
| pcaGoPromoter.Rn.rn4/ | - | 2014-04-05 00:29:17 |
| pd.atdschip.tiling/ | - | 2014-04-05 00:29:19 |
| ppiData/ | - | 2014-04-05 00:29:11 |
| prebsdata/ | - | 2014-04-05 00:29:20 |
| pumadata/ | - | 2014-04-05 00:29:12 |
| rheumaticConditionWOLLBOLD/ | - | 2014-04-05 00:29:17 |
| seqCNA.annot/ | - | 2014-04-05 00:29:21 |
| serumStimulation/ | - | 2014-04-05 00:29:17 |
| seventyGeneData/ | - | 2014-04-05 00:29:21 |
| simpIntLists/ | - | 2014-04-05 00:29:14 |
| stemHypoxia/ | - | 2014-04-05 00:29:19 |
| stjudem/ | - | 2014-04-05 00:29:11 |
| synapterdata/ | - | 2014-04-05 00:29:18 |
| tinesath1cdf/ | - | 2014-04-05 00:29:12 |
| tinesath1probe/ | - | 2014-04-05 00:29:12 |
| tweeDEseqCountData/ | - | 2014-04-05 00:29:17 |
| waveTilingData/ | - | 2014-04-05 00:29:18 |
| yeastCC/ | - | 2014-04-05 00:29:11 |
| yeastExpData/ | - | 2014-04-05 00:29:11 |
| yeastGSData/ | - | 2014-04-05 00:29:12 |
| yeastNagalakshmi/ | - | 2014-04-05 00:29:16 |
| yeastRNASeq/ | - | 2014-04-05 00:29:13 |
| yri1kgv/ | - | 2014-04-05 00:29:22 |
| STATUS_DB.txt | 49.8 KiB | 2014-04-05 00:28:45 |
| index.html | 499.2 KiB | 2014-04-05 00:29:26 |
| meat-index.txt | 35.9 KiB | 2014-04-05 00:28:41 |
| moscato1-NodeInfo.html | 4.9 KiB | 2014-04-05 00:29:24 |
| moscato1-R-instpkgs.html | 95.0 KiB | 2014-04-05 00:29:24 |
| moscato1-index.html | 129.2 KiB | 2014-04-05 00:29:23 |
| perceval-NodeInfo.html | 5.2 KiB | 2014-04-05 00:29:24 |
| perceval-R-instpkgs.html | 92.9 KiB | 2014-04-05 00:29:24 |
| perceval-index.html | 129.5 KiB | 2014-04-05 00:29:24 |
| report.css | 7.1 KiB | 2014-04-05 00:28:45 |
| report.js | 3.9 KiB | 2014-04-05 00:28:45 |
| report.tgz | 890.6 KiB | 2014-04-05 00:29:26 |
| zin1-NodeInfo.html | 4.8 KiB | 2014-04-05 00:29:24 |
| zin1-R-instpkgs.html | 93.5 KiB | 2014-04-05 00:29:24 |
| zin1-index.html | 108.4 KiB | 2014-04-05 00:29:23 |