All our mirrors of open source software are available via http, https, ftp and an onion service. More information about our mirrors including statistics and contact information is available on our mirror info pages.
For information about dotsrc.org and our other services please go to our website.
| File Name ↓ | File Size ↓ | Date ↓ |
|---|---|---|
| Parent directory/ | - | - |
| ALL/ | - | 2014-10-05 00:42:22 |
| ALLMLL/ | - | 2014-10-05 00:42:22 |
| ARRmData/ | - | 2014-10-05 00:43:34 |
| Affyhgu133A2Expr/ | - | 2014-10-05 00:43:59 |
| Affyhgu133Plus2Expr/ | - | 2014-10-05 00:43:59 |
| Affyhgu133aExpr/ | - | 2014-10-05 00:43:54 |
| AffymetrixDataTestFiles/ | - | 2014-10-05 00:42:22 |
| Affymoe4302Expr/ | - | 2014-10-05 00:43:58 |
| Affymoe430Expr/ | - | 2014-03-04 01:25:57 |
| AmpAffyExample/ | - | 2014-10-05 00:42:22 |
| BeadArrayUseCases/ | - | 2014-10-05 00:43:17 |
| CCl4/ | - | 2014-10-05 00:42:38 |
| CLL/ | - | 2014-10-05 00:42:22 |
| COHCAPanno/ | - | 2014-10-05 00:43:53 |
| COPDSexualDimorphism.data/ | - | 2014-10-05 00:43:59 |
| COSMIC.67/ | - | 2014-10-05 00:43:49 |
| ChAMPdata/ | - | 2014-10-05 00:43:48 |
| ChIPXpressData/ | - | 2014-10-05 00:43:27 |
| ChimpHumanBrainData/ | - | 2014-10-05 00:43:51 |
| ConnectivityMap/ | - | 2014-10-05 00:43:34 |
| CopyNumber450kData/ | - | 2014-10-05 00:43:59 |
| DLBCL/ | - | 2014-10-05 00:43:04 |
| DMRcatedata/ | - | 2014-10-05 00:43:59 |
| DREAM4/ | - | 2014-10-05 00:43:35 |
| DeSousa2013/ | - | 2014-10-05 00:43:38 |
| DonaPLLP2013/ | - | 2014-10-05 00:43:41 |
| DrugVsDiseasedata/ | - | 2014-10-05 00:43:35 |
| DvDdata/ | - | 2014-10-05 00:43:32 |
| EatonEtAlChIPseq/ | - | 2014-10-05 00:43:04 |
| FANTOM3and4CAGE/ | - | 2014-10-05 00:43:33 |
| Fletcher2013a/ | - | 2014-10-05 00:43:43 |
| Fletcher2013b/ | - | 2014-10-05 00:43:43 |
| FlowSorted.Blood.450k/ | - | 2014-10-05 00:43:44 |
| FlowSorted.DLPFC.450k/ | - | 2014-10-05 00:44:00 |
| FunciSNP.data/ | - | 2014-10-05 00:43:23 |
| GGdata/ | - | 2014-10-05 00:42:25 |
| GSVAdata/ | - | 2014-10-05 00:43:11 |
| GWASdata/ | - | 2014-10-05 00:43:15 |
| HD2013SGI/ | - | 2014-10-05 00:43:37 |
| HEEBOdata/ | - | 2014-10-05 00:42:25 |
| HIVcDNAvantWout03/ | - | 2014-10-05 00:42:26 |
| HiCDataLymphoblast/ | - | 2014-10-05 00:43:50 |
| Hiiragi2013/ | - | 2014-10-05 00:43:37 |
| ITALICSData/ | - | 2014-10-05 00:42:47 |
| Illumina450ProbeVariants.db/ | - | 2014-10-05 00:43:48 |
| IlluminaDataTestFiles/ | - | 2014-10-05 00:43:42 |
| Iyer517/ | - | 2014-10-05 00:42:26 |
| JASPAR2014/ | - | 2014-10-05 00:43:48 |
| KEGGdzPathwaysGEO/ | - | 2014-10-05 00:43:27 |
| LiebermanAidenHiC2009/ | - | 2014-10-05 00:43:13 |
| LungCancerACvsSCCGEO/ | - | 2014-10-05 00:43:41 |
| LungCancerLines/ | - | 2014-10-05 00:43:28 |
| MAQCsubset/ | - | 2014-10-05 00:42:26 |
| MAQCsubsetAFX/ | - | 2014-10-05 00:42:44 |
| MAQCsubsetILM/ | - | 2014-10-05 00:42:46 |
| MEDIPSData/ | - | 2014-10-05 00:43:26 |
| MEEBOdata/ | - | 2014-10-05 00:42:26 |
| MMDiffBamSubset/ | - | 2014-10-05 00:43:38 |
| MSBdata/ | - | 2014-10-05 00:44:00 |
| MafDb.ALL.wgs.phase1.release.v3.20101123/ | - | 2014-04-16 00:32:42 |
| MafDb.ESP6500SI.V2.SSA137.dbSNP138/ | - | 2014-04-16 00:32:43 |
| Mulder2012/ | - | 2014-10-05 00:43:24 |
| NCIgraphData/ | - | 2014-10-05 00:43:11 |
| Neve2006/ | - | 2014-10-05 00:42:39 |
| PREDAsampledata/ | - | 2014-10-05 00:43:14 |
| PWMEnrich.Dmelanogaster.background/ | - | 2014-10-05 00:43:23 |
| PWMEnrich.Hsapiens.background/ | - | 2014-10-05 00:43:47 |
| PWMEnrich.Mmusculus.background/ | - | 2014-10-05 00:43:47 |
| PathNetData/ | - | 2014-10-05 00:43:31 |
| ProData/ | - | 2014-10-05 00:42:27 |
| RIPSeekerData/ | - | 2014-10-05 00:43:28 |
| RMassBankData/ | - | 2014-10-05 00:43:27 |
| RNAinteractMAPK/ | - | 2014-10-05 00:43:06 |
| RNAseqData.HNRNPC.bam.chr14/ | - | 2014-10-05 00:43:39 |
| RNAseqData.HeLa.bam.chr14/ | - | 2014-01-07 00:08:19 |
| RforProteomics/ | - | 2014-10-05 00:43:30 |
| RnaSeqTutorial/ | - | 2014-10-05 00:43:17 |
| SNAData/ | - | 2014-10-05 00:42:27 |
| SNAGEEdata/ | - | 2014-10-05 00:43:29 |
| SomatiCAData/ | - | 2014-10-05 00:43:32 |
| SomaticCancerAlterations/ | - | 2014-10-05 00:43:46 |
| SpikeIn/ | - | 2014-10-05 00:42:28 |
| SpikeInSubset/ | - | 2014-10-05 00:42:28 |
| TBX20BamSubset/ | - | 2014-10-05 00:43:26 |
| TCGAMethylation450k/ | - | 2014-10-05 00:43:16 |
| TargetScoreData/ | - | 2014-10-05 00:43:42 |
| TargetSearchData/ | - | 2014-10-05 00:42:53 |
| XhybCasneuf/ | - | 2014-10-05 00:42:43 |
| affycompData/ | - | 2014-10-05 00:43:06 |
| affydata/ | - | 2014-10-05 00:42:21 |
| antiProfilesData/ | - | 2014-10-05 00:43:37 |
| bcellViper/ | - | 2014-10-05 00:43:59 |
| beadarrayExampleData/ | - | 2014-10-05 00:43:16 |
| beta7/ | - | 2014-10-05 00:42:22 |
| bladderbatch/ | - | 2014-10-05 00:43:15 |
| breastCancerMAINZ/ | - | 2014-10-05 00:43:07 |
| breastCancerNKI/ | - | 2014-10-05 00:43:07 |
| breastCancerTRANSBIG/ | - | 2014-10-05 00:43:10 |
| breastCancerUNT/ | - | 2014-10-05 00:43:10 |
| breastCancerUPP/ | - | 2014-10-05 00:43:11 |
| breastCancerVDX/ | - | 2014-10-05 00:43:11 |
| bronchialIL13/ | - | 2014-10-05 00:42:22 |
| bsseqData/ | - | 2014-10-05 00:43:26 |
| cMap2data/ | - | 2014-10-05 00:43:34 |
| cancerdata/ | - | 2014-10-05 00:43:22 |
| ccTutorial/ | - | 2014-10-05 00:42:47 |
| ceu1kg/ | - | 2014-10-05 00:43:04 |
| ceu1kgv/ | - | 2014-10-05 00:43:50 |
| ceuhm3/ | - | 2014-10-05 00:43:04 |
| cgdv17/ | - | 2014-10-05 00:43:20 |
| charmData/ | - | 2014-10-05 00:42:56 |
| cheung2010/ | - | 2014-10-05 00:43:14 |
| chipenrich.data/ | - | 2014-10-05 00:43:44 |
| cnvGSAdata/ | - | 2014-10-05 00:43:22 |
| colonCA/ | - | 2014-10-05 00:42:23 |
| curatedBladderData/ | - | 2014-10-05 00:43:44 |
| curatedCRCData/ | - | 2014-10-05 00:43:49 |
| curatedOvarianData/ | - | 2014-10-05 00:43:31 |
| davidTiling/ | - | 2014-10-05 00:42:24 |
| dressCheck/ | - | 2014-10-05 00:43:04 |
| dsQTL/ | - | 2014-10-05 00:43:21 |
| dyebiasexamples/ | - | 2014-10-05 00:42:52 |
| ecoliLeucine/ | - | 2014-10-05 00:42:24 |
| encoDnaseI/ | - | 2014-10-05 00:42:45 |
| estrogen/ | - | 2014-10-05 00:42:24 |
| faahKO/ | - | 2014-10-05 00:42:24 |
| fabiaData/ | - | 2014-10-05 00:43:28 |
| facsDorit/ | - | 2014-10-05 00:42:24 |
| ffpeExampleData/ | - | 2014-10-05 00:43:21 |
| fibroEset/ | - | 2014-10-05 00:42:24 |
| flowFitExampleData/ | - | 2014-10-05 00:43:39 |
| flowWorkspaceData/ | - | 2014-10-05 00:43:12 |
| frmaExampleData/ | - | 2014-10-05 00:42:54 |
| gageData/ | - | 2014-10-05 00:43:05 |
| gaschYHS/ | - | 2014-10-05 00:42:24 |
| gatingMLData/ | - | 2014-10-05 00:42:25 |
| gcspikelite/ | - | 2014-10-05 00:42:49 |
| geneLenDataBase/ | - | 2014-10-05 00:43:03 |
| ggtut/ | - | 2014-10-05 00:43:12 |
| golubEsets/ | - | 2014-10-05 00:42:25 |
| h5vcData/ | - | 2014-10-05 00:43:48 |
| hapmap100khind/ | - | 2014-10-05 00:42:43 |
| hapmap100kxba/ | - | 2014-10-05 00:42:38 |
| hapmap500knsp/ | - | 2014-10-05 00:42:43 |
| hapmap500ksty/ | - | 2014-10-05 00:42:43 |
| hapmapsnp5/ | - | 2014-10-05 00:42:45 |
| hapmapsnp6/ | - | 2014-10-05 00:42:46 |
| harbChIP/ | - | 2014-10-05 00:42:25 |
| healthyFlowData/ | - | 2014-10-05 00:43:53 |
| hgu133abarcodevecs/ | - | 2014-10-05 00:42:55 |
| hgu133plus2barcodevecs/ | - | 2014-10-05 00:42:55 |
| hgu2beta7/ | - | 2014-10-05 00:42:25 |
| hmyriB36/ | - | 2014-10-05 00:42:48 |
| humanStemCell/ | - | 2014-10-05 00:42:47 |
| ind1KG/ | - | 2014-10-05 00:42:53 |
| iontreeData/ | - | 2014-10-05 00:43:15 |
| kidpack/ | - | 2014-10-05 00:42:26 |
| leeBamViews/ | - | 2014-10-05 00:43:02 |
| leukemiasEset/ | - | 2014-10-05 00:43:38 |
| lumiBarnes/ | - | 2014-10-05 00:42:37 |
| lungExpression/ | - | 2014-10-05 00:42:37 |
| mammaPrintData/ | - | 2014-10-05 00:43:40 |
| maqcExpression4plex/ | - | 2014-10-05 00:42:42 |
| metaMSdata/ | - | 2014-10-05 00:44:00 |
| miRNATarget/ | - | 2014-10-05 00:43:23 |
| minfiData/ | - | 2014-10-05 00:43:15 |
| mitoODEdata/ | - | 2014-10-05 00:43:41 |
| mosaicsExample/ | - | 2014-10-05 00:43:05 |
| mouse4302barcodevecs/ | - | 2014-10-05 00:42:54 |
| msdata/ | - | 2014-10-05 00:42:45 |
| mvoutData/ | - | 2014-10-05 00:42:49 |
| pRolocdata/ | - | 2014-10-05 00:43:29 |
| parathyroid/ | - | 2014-10-05 00:43:30 |
| parathyroidSE/ | - | 2014-10-05 00:43:33 |
| pasilla/ | - | 2014-10-05 00:43:12 |
| pasillaBamSubset/ | - | 2014-10-05 00:43:22 |
| pcaGoPromoter.Hs.hg19/ | - | 2014-10-05 00:43:19 |
| pcaGoPromoter.Mm.mm9/ | - | 2014-10-05 00:43:20 |
| pcaGoPromoter.Rn.rn4/ | - | 2014-10-05 00:43:20 |
| pd.atdschip.tiling/ | - | 2014-10-05 00:43:27 |
| phastCons100way.UCSC.hg19/ | - | 2014-04-16 00:32:42 |
| ppiData/ | - | 2014-10-05 00:42:27 |
| prebsdata/ | - | 2014-10-05 00:43:38 |
| pumadata/ | - | 2014-10-05 00:42:38 |
| rheumaticConditionWOLLBOLD/ | - | 2014-10-05 00:43:20 |
| seqCNA.annot/ | - | 2014-10-05 00:43:43 |
| serumStimulation/ | - | 2014-10-05 00:43:18 |
| seventyGeneData/ | - | 2014-10-05 00:43:40 |
| simpIntLists/ | - | 2014-10-05 00:43:06 |
| stemHypoxia/ | - | 2014-10-05 00:43:28 |
| stjudem/ | - | 2014-10-05 00:42:32 |
| synapterdata/ | - | 2014-10-05 00:43:25 |
| tinesath1cdf/ | - | 2014-10-05 00:42:44 |
| tinesath1probe/ | - | 2014-10-05 00:42:44 |
| tweeDEseqCountData/ | - | 2014-10-05 00:43:17 |
| waveTilingData/ | - | 2014-10-05 00:43:25 |
| yeastCC/ | - | 2014-10-05 00:42:32 |
| yeastExpData/ | - | 2014-10-05 00:42:36 |
| yeastGSData/ | - | 2014-10-05 00:42:45 |
| yeastNagalakshmi/ | - | 2014-10-05 00:43:14 |
| yeastRNASeq/ | - | 2014-10-05 00:42:54 |
| yri1kgv/ | - | 2014-10-05 00:43:51 |
| STATUS_DB.txt | 75.1 KiB | 2014-10-05 00:39:44 |
| index.html | 633.2 KiB | 2014-10-05 00:44:11 |
| meat-index.txt | 39.0 KiB | 2014-10-05 00:39:32 |
| moscato2-NodeInfo.html | 4.9 KiB | 2014-10-05 00:44:05 |
| moscato2-R-instpkgs.html | 68.5 KiB | 2014-10-05 00:44:05 |
| moscato2-index.html | 168.2 KiB | 2014-10-05 00:44:04 |
| petty-NodeInfo.html | 5.2 KiB | 2014-10-05 00:44:05 |
| petty-R-instpkgs.html | 67.9 KiB | 2014-10-05 00:44:05 |
| petty-index.html | 164.0 KiB | 2014-10-05 00:44:05 |
| report.css | 7.6 KiB | 2014-10-06 18:35:40 |
| report.js | 3.9 KiB | 2014-10-05 00:39:44 |
| report.tgz | 1.3 MiB | 2014-10-05 00:44:13 |
| zin2-NodeInfo.html | 4.8 KiB | 2014-10-05 00:44:05 |
| zin2-R-instpkgs.html | 68.5 KiB | 2014-10-05 00:44:05 |
| zin2-index.html | 144.0 KiB | 2014-10-05 00:44:01 |