| RSNPper 1.13.0 VJ Carey
 
 | Snapshot Date: 2007-12-11 00:09:07 -0800 (Tue, 11 Dec 2007) |  | URL: https://hedgehog.fhcrc.org/bioconductor/trunk/madman/Rpacks/RSNPper |  | Last Changed Rev: 27716 / Revision: 29143 |  | Last Changed Date: 2007-10-02 18:16:39 -0700 (Tue, 02 Oct 2007) | 
 | lamb1 | Linux (SUSE 10.1) / x86_64 | OK | OK |  | 
| wilson2 | Linux (openSUSE 10.3) / x86_64 | OK | OK |  | 
| wellington | Linux (openSUSE 10.3) / i686 | OK | OK |  | 
| liverpool | Windows Server 2003 R2 (32-bit) / x64 | OK | OK | OK | 
| lemming | Windows Server 2003 (32-bit) / x64 | OK | OK | [ OK ] | 
installing R.css in D:/biocbld/bbs-2.2-bioc/meat/RSNPper.buildbin-libdir
Using auto-selected zip options ''
---------- Making package RSNPper ------------
  adding build stamp to DESCRIPTION
  installing NAMESPACE file and metadata
  installing R files
  installing inst files
  installing man source files
  installing indices
  installing help
 >>> Building/Updating help pages for package 'RSNPper'
     Formats: text html latex example chm 
  SNPperMeta-class                  text    html    latex   example chm
  geneInfo                          text    html    latex   example chm
Microsoft HTML Help Compiler 4.74.8702
Compiling d:\biocbld\bbs-2.2-bioc\meat\R.INSTALL.4576\RSNPper\chm\RSNPper.chm
Compile time: 0 minutes, 0 seconds
3	Topics
34	Local links
0	Internet links
1	Graphic
Created d:\biocbld\bbs-2.2-bioc\meat\R.INSTALL.4576\RSNPper\chm\RSNPper.chm, 21,730 bytes
Compression decreased file by 1,708 bytes.
  adding MD5 sums
packaged installation of package 'RSNPper' as RSNPper_1.13.0.zip
* DONE (RSNPper)