| RbcBook1 1.7.0 Vince Carey
 
 | Snapshot Date: 2007-12-11 00:09:07 -0800 (Tue, 11 Dec 2007) |  | URL: https://hedgehog.fhcrc.org/bioconductor/trunk/madman/Rpacks/RbcBook1 |  | Last Changed Rev: 27716 / Revision: 29143 |  | Last Changed Date: 2007-10-02 18:16:39 -0700 (Tue, 02 Oct 2007) | 
 | lamb1 | Linux (SUSE 10.1) / x86_64 | [ OK ] | ERROR |  | 
| wilson2 | Linux (openSUSE 10.3) / x86_64 | OK | ERROR |  | 
| wellington | Linux (openSUSE 10.3) / i686 | OK | ERROR |  | 
| liverpool | Windows Server 2003 R2 (32-bit) / x64 | OK | ERROR | OK | 
| lemming | Windows Server 2003 (32-bit) / x64 | OK | ERROR | OK | 
* checking for file 'RbcBook1/DESCRIPTION' ... OK
* preparing 'RbcBook1':
* checking DESCRIPTION meta-information ... OK
* installing the package to re-build vignettes
* Installing *source* package 'RbcBook1' ...
** R
** data
** inst
** help
Note: removing empty section \arguments
Note: removing empty section \description
 >>> Building/Updating help pages for package 'RbcBook1'
     Formats: text html latex example 
  bcStangle                         text    html    latex   example
  bcSweave                          text    html    latex   example
  bcr                               text    html    latex   example
  checkVerbatimLines                text    html    latex   example
  imageSize                         text    html    latex   example
  perf                              text    html    latex   example
  requireAllBook1                   text    html    latex   example
  rpart2gNEL                        text    html    latex   example
** building package indices ...
* DONE (RbcBook1)
* creating vignettes ... OK
* removing junk files
* checking for LF line-endings in source and make files
* checking for empty or unneeded directories
* building 'RbcBook1_1.7.0.tar.gz'