| diffGeneAnalysis 1.21.0 Choudary Jagarlamudi
 
 | Snapshot Date: 2007-12-11 00:09:07 -0800 (Tue, 11 Dec 2007) |  | URL: https://hedgehog.fhcrc.org/bioconductor/trunk/madman/Rpacks/diffGeneAnalysis |  | Last Changed Rev: 27716 / Revision: 29143 |  | Last Changed Date: 2007-10-02 18:16:39 -0700 (Tue, 02 Oct 2007) | 
 | lamb1 | Linux (SUSE 10.1) / x86_64 | OK | OK |  | 
| wilson2 | Linux (openSUSE 10.3) / x86_64 | OK | OK |  | 
| wellington | Linux (openSUSE 10.3) / i686 | OK | OK |  | 
| liverpool | Windows Server 2003 R2 (32-bit) / x64 | OK | OK | [ OK ] | 
| lemming | Windows Server 2003 (32-bit) / x64 | OK | OK | OK | 
installing R.css in E:/biocbld/bbs-2.2-bioc/meat/diffGeneAnalysis.buildbin-libdir
Using auto-selected zip options 'diffGeneAnalysis-ZIPDATA=zip'
---------- Making package diffGeneAnalysis ------------
  adding build stamp to DESCRIPTION
  installing R files
  installing inst files
  installing data files
  installing man source files
  installing indices
  zipping data
  installing help
 >>> Building/Updating help pages for package 'diffGeneAnalysis'
     Formats: text html latex example chm 
  assocAnalysis                     text    html    latex   example chm
  biasAdjust                        text    html    latex   example chm
  curveFit                          text    html    latex   example chm
  dataTrim                          text    html    latex   example chm
  normalize                         text    html    latex   example chm
  rawdata                           text    html    latex   example chm
  refGroup                          text    html    latex   example chm
Microsoft HTML Help Compiler 4.74.8702
Compiling e:\biocbld\bbs-2.2-bioc\meat\R.INSTALL.2428\diffGeneAnalysis\chm\diffGeneAnalysis.chm
Compile time: 0 minutes, 1 second
8	Topics
7	Local links
0	Internet links
1	Graphic
Created e:\biocbld\bbs-2.2-bioc\meat\R.INSTALL.2428\diffGeneAnalysis\chm\diffGeneAnalysis.chm, 26,741 bytes
Compression decreased file by 2,990 bytes.
  adding MD5 sums
packaged installation of package 'diffGeneAnalysis' as diffGeneAnalysis_1.21.0.zip
* DONE (diffGeneAnalysis)