All our mirrors of open source software are available via http, https, ftp and an onion service. More information about our mirrors including statistics and contact information is available on our mirror info pages.
For information about dotsrc.org and our other services please go to our website.
| File Name ↓ | File Size ↓ | Date ↓ |
|---|---|---|
| Parent directory/ | - | - |
| ALL/ | - | 2009-04-10 11:45:19 |
| ALLMLL/ | - | 2009-04-10 11:45:19 |
| AffymetrixDataTestFiles/ | - | 2009-04-10 11:45:19 |
| AmpAffyExample/ | - | 2009-04-10 11:45:19 |
| CCl4/ | - | 2009-04-10 11:45:21 |
| CLL/ | - | 2009-04-10 11:45:19 |
| GGdata/ | - | 2009-04-10 11:45:20 |
| HEEBOdata/ | - | 2009-04-10 11:45:20 |
| HIVcDNAvantWout03/ | - | 2009-04-10 11:45:20 |
| ITALICSData/ | - | 2009-04-10 11:45:23 |
| Iyer517/ | - | 2009-04-10 11:45:20 |
| MAQCsubset/ | - | 2009-04-10 11:45:20 |
| MAQCsubsetAFX/ | - | 2009-04-10 11:45:22 |
| MAQCsubsetILM/ | - | 2009-04-10 11:45:23 |
| MEEBOdata/ | - | 2009-04-10 11:45:20 |
| Neve2006/ | - | 2009-04-10 11:45:22 |
| ProData/ | - | 2009-04-10 11:45:20 |
| SNAData/ | - | 2009-04-10 11:45:20 |
| SpikeIn/ | - | 2009-04-10 11:45:20 |
| SpikeInSubset/ | - | 2009-04-10 11:45:21 |
| TargetSearchData/ | - | 2009-04-10 11:45:23 |
| XhybCasneuf/ | - | 2009-04-10 11:45:22 |
| affydata/ | - | 2009-04-10 11:45:19 |
| beta7/ | - | 2009-04-10 11:45:19 |
| bronchialIL13/ | - | 2009-04-10 11:45:19 |
| ccTutorial/ | - | 2009-04-10 11:45:23 |
| colonCA/ | - | 2009-04-10 11:45:19 |
| davidTiling/ | - | 2009-04-10 11:45:19 |
| dyebiasexamples/ | - | 2009-04-10 11:45:23 |
| ecoliLeucine/ | - | 2009-04-10 11:45:19 |
| encoDnaseI/ | - | 2009-04-10 11:45:23 |
| estrogen/ | - | 2009-04-10 11:45:19 |
| faahKO/ | - | 2009-04-10 11:45:19 |
| facsDorit/ | - | 2009-04-10 11:45:19 |
| fibroEset/ | - | 2009-04-10 11:45:19 |
| gaschYHS/ | - | 2009-04-10 11:45:19 |
| gatingMLData/ | - | 2009-04-10 11:45:19 |
| gcspikelite/ | - | 2009-04-10 11:45:23 |
| golubEsets/ | - | 2009-04-10 11:45:20 |
| hapmap100khind/ | - | 2009-04-10 11:45:22 |
| hapmap100kxba/ | - | 2009-04-10 11:45:21 |
| hapmap500knsp/ | - | 2009-04-10 11:45:22 |
| hapmap500ksty/ | - | 2009-04-10 11:45:22 |
| hapmapsnp5/ | - | 2009-04-10 11:45:23 |
| hapmapsnp6/ | - | 2009-04-10 11:45:23 |
| harbChIP/ | - | 2009-04-10 11:45:20 |
| hgu2beta7/ | - | 2009-04-10 11:45:20 |
| hmyriB36/ | - | 2009-04-10 11:45:23 |
| humanStemCell/ | - | 2009-04-10 11:45:23 |
| kidpack/ | - | 2009-04-10 11:45:20 |
| lumiBarnes/ | - | 2009-04-10 11:45:21 |
| lungExpression/ | - | 2009-04-10 11:45:21 |
| maqcExpression4plex/ | - | 2009-04-10 11:45:22 |
| msdata/ | - | 2009-04-10 11:45:23 |
| mvoutData/ | - | 2009-04-10 11:45:23 |
| ppiData/ | - | 2009-04-10 11:45:20 |
| pumadata/ | - | 2009-04-10 11:45:21 |
| rfcdmin/ | - | 2009-04-10 11:45:20 |
| stjudem/ | - | 2009-04-10 11:45:21 |
| tinesath1cdf/ | - | 2009-04-10 11:45:22 |
| tinesath1probe/ | - | 2009-04-10 11:45:22 |
| yeastCC/ | - | 2009-04-10 11:45:21 |
| yeastExpData/ | - | 2009-04-10 11:45:21 |
| yeastGSData/ | - | 2009-04-10 11:45:22 |
| STATUS_DB.txt | 16.4 KiB | 2009-04-10 11:45:10 |
| index.html | 176.2 KiB | 2009-04-10 11:45:24 |
| liverpool-NodeInfo.html | 3.8 KiB | 2009-04-10 11:45:24 |
| liverpool-R-instpkgs.html | 30.1 KiB | 2009-04-10 11:45:24 |
| liverpool-index.html | 46.8 KiB | 2009-04-10 11:45:24 |
| meat-index.txt | 10.5 KiB | 2009-04-10 11:45:06 |
| pelham-NodeInfo.html | 4.0 KiB | 2009-04-10 11:45:24 |
| pelham-R-instpkgs.html | 29.5 KiB | 2009-04-10 11:45:24 |
| pelham-index.html | 45.5 KiB | 2009-04-10 11:45:24 |
| report.css | 5.8 KiB | 2009-04-10 11:45:10 |
| report.tgz | 207.4 KiB | 2009-04-10 11:45:24 |
| wilson2-NodeInfo.html | 3.8 KiB | 2009-04-10 11:45:24 |
| wilson2-R-instpkgs.html | 30.1 KiB | 2009-04-10 11:45:24 |
| wilson2-index.html | 40.1 KiB | 2009-04-10 11:45:23 |