| Back to the "Multiple platform build/check report" |
| Package 22/64 | Hostname | OS / Arch | BUILD | CHECK | BUILD BIN | ||||
| gcspikelite 1.0.1 Mark Robinson
| wilson2 | Linux (openSUSE 10.3) / x86_64 | OK | WARNINGS | |||||
| liverpool | Windows Server 2003 R2 (32-bit) / x64 | OK | WARNINGS | OK | |||||
| pelham | Mac OS X Leopard (10.5.6) / i386 | OK | WARNINGS | [ OK ] |
| Package: gcspikelite |
| Version: 1.0.1 |
| Command: /Users/biocbuild/BBS/utils/build-universal.sh gcspikelite_1.0.1.tar.gz /Library/Frameworks/R.framework/Versions/2.8/Resources/bin/R gcspikelite.buildbin-libdir |
| StartedAt: 2009-04-10 02:13:48 -0700 (Fri, 10 Apr 2009) |
| EndedAt: 2009-04-10 02:14:18 -0700 (Fri, 10 Apr 2009) |
| EllapsedTime: 30.4 seconds |
| RetCode: 0 |
| Status: OK |
| PackageFile: gcspikelite_1.0.1.tgz |
| PackageFileSize: 23.46 MiB |
INSTALLATION WITH 'R CMD INSTALL --library=gcspikelite.buildbin-libdir gcspikelite_1.0.1.tar.gz'
* Installing *source* package 'gcspikelite' ...
** R
** data
** preparing package for lazy loading
No man pages found in package 'gcspikelite'
** building package indices ...
* DONE (gcspikelite)