| yeastExpData 0.9.13 R. Gentleman
 
 | Snapshot Date: 2009-04-10 00:03:00 -0700 (Fri, 10 Apr 2009) |  | URL: https://hedgehog.fhcrc.org/bioc-data/trunk/experiment/pkgs/yeastExpData |  | Last Changed Rev: 705 / Revision: 760 |  | Last Changed Date: 2008-09-08 12:10:29 -0700 (Mon, 08 Sep 2008) | 
 | wilson2 | Linux (openSUSE 10.3) / x86_64 | OK | OK |  | 
| liverpool | Windows Server 2003 R2 (32-bit) / x64 | OK | OK | [ OK ] | 
| pelham | Mac OS X Leopard (10.5.6) / i386 | ERROR | skipped | skipped | 
installing R.css in E:/biocbld/bbs-2.3-data-experiment/meat/yeastExpData.buildbin-libdir
Using auto-selected zip options 'yeastExpData-ZIPDATA=zip'
---------- Making package yeastExpData ------------
  adding build stamp to DESCRIPTION
  no R files in this package
  installing inst files
  installing data files
  installing man source files
  installing indices
  zipping data
  installing help
 >>> Building/Updating help pages for package 'yeastExpData'
     Formats: text html latex example chm 
  ccyclered                         text    html    latex   example chm
  fcabundance                       text    html    latex   example chm
  gfp                               text    html    latex   example chm
  litG                              text    html    latex   example chm
  nPdist                            text    html    latex   example chm
  proteinProperties                 text    html    latex   example chm
Microsoft HTML Help Compiler 4.74.8702
Compiling e:\biocbld\bbs-2.3-data-experiment\meat\R.INSTALL.4432\yeastExpData\chm\yeastExpData.chm
Compile time: 0 minutes, 2 seconds
7	Topics
13	Local links
7	Internet links
1	Graphic
Created e:\biocbld\bbs-2.3-data-experiment\meat\R.INSTALL.4432\yeastExpData\chm\yeastExpData.chm, 28,165 bytes
Compression increased file by 222 bytes.
  adding MD5 sums
packaged installation of package 'yeastExpData' as yeastExpData_0.9.13.zip
* DONE (yeastExpData)