| Back to the "Multiple platform build/check report" |
| Package 54/77 | Hostname | OS / Arch | BUILD | CHECK | BUILD BIN | ||||
| MAQCsubsetAFX 1.0.3 Laurent Gatto
| wilson2 | Linux (openSUSE 11.1) / x86_64 | OK | OK | |||||
| pitt | Mac OS X Tiger (10.4.11) / i386 | OK | OK | [ OK ] | |||||
| pelham | Mac OS X Leopard (10.5.8) / i386 | OK | OK | OK |
| Package: MAQCsubsetAFX |
| Version: 1.0.3 |
| Command: /Users/biocbuild/BBS/utils/build-universal.sh MAQCsubsetAFX_1.0.3.tar.gz /Library/Frameworks/R.framework/Versions/2.10/Resources/bin/R MAQCsubsetAFX.buildbin-libdir |
| StartedAt: 2010-04-02 15:35:03 -0700 (Fri, 02 Apr 2010) |
| EndedAt: 2010-04-02 15:36:48 -0700 (Fri, 02 Apr 2010) |
| EllapsedTime: 105.3 seconds |
| RetCode: 0 |
| Status: OK |
| PackageFile: MAQCsubsetAFX_1.0.3.tgz |
| PackageFileSize: 38.79 MiB |
INSTALLATION WITH 'R CMD INSTALL --preclean --library=MAQCsubsetAFX.buildbin-libdir MAQCsubsetAFX_1.0.3.tar.gz'
* installing *source* package ‘MAQCsubsetAFX’ ...
** data
** inst
** help
*** installing help indices
** building package indices ...
* DONE (MAQCsubsetAFX)