| Back to the "Multiple platform build/check report" |
| Package 6/83 | Hostname | OS / Arch | BUILD | CHECK | BUILD BIN | ||||
| beta7 1.0.0 Jean Yang
| wilson1 | Linux (openSUSE 11.1) / x86_64 | OK | OK | |||||
| liverpool | Windows Server 2003 R2 (32-bit) / x64 | OK | OK | [ OK ] | |||||
| pelham | Mac OS X Leopard (10.5.8) / i386 | OK | OK | OK |
| Package: beta7 |
| Version: 1.0.0 |
| Command: E:\biocbld\bbs-2.6-bioc\R\bin\R.exe CMD INSTALL --build --library=beta7.buildbin-libdir beta7_1.0.0.tar.gz |
| StartedAt: 2010-09-24 05:04:37 -0700 (Fri, 24 Sep 2010) |
| EndedAt: 2010-09-24 05:04:56 -0700 (Fri, 24 Sep 2010) |
| EllapsedTime: 18.5 seconds |
| RetCode: 0 |
| Status: OK |
| PackageFile: beta7_1.0.0.zip |
| PackageFileSize: 15.19 MiB |
* installing *source* package 'beta7' ... ** data ** inst ** help *** installing help indices ** building package indices ... ** testing if installed package can be loaded * MD5 sums packaged installation of 'beta7' as beta7_1.0.0.zip * DONE (beta7)