All our mirrors of open source software are available via http, https, ftp and an onion service. More information about our mirrors including statistics and contact information is available on our mirror info pages.
For information about dotsrc.org and our other services please go to our website.
| File Name ↓ | File Size ↓ | Date ↓ |
|---|---|---|
| Parent directory/ | - | - |
| ALL/ | - | 2011-10-19 16:39:38 |
| ALLMLL/ | - | 2011-10-19 16:39:38 |
| AffymetrixDataTestFiles/ | - | 2011-10-19 16:39:38 |
| AmpAffyExample/ | - | 2011-10-19 16:39:38 |
| CCl4/ | - | 2011-10-19 16:39:38 |
| CLL/ | - | 2011-10-19 16:39:38 |
| DLBCL/ | - | 2011-10-19 16:39:38 |
| EatonEtAlChIPseq/ | - | 2011-10-19 16:39:38 |
| GGdata/ | - | 2011-10-19 16:39:38 |
| GSVAdata/ | - | 2011-10-19 16:39:38 |
| GWASdata/ | - | 2011-10-19 16:39:38 |
| GenomicFeatures.Hsapiens.UCSC.hg18/ | - | 2011-10-19 16:39:38 |
| GenomicFeatures.Mmusculus.UCSC.mm9/ | - | 2011-10-19 16:39:38 |
| HEEBOdata/ | - | 2011-10-19 16:39:38 |
| HIVcDNAvantWout03/ | - | 2011-10-19 16:39:38 |
| ITALICSData/ | - | 2011-10-19 16:39:38 |
| IlluminaHumanMethylation450kmanifest/ | - | 2011-10-19 16:39:38 |
| Iyer517/ | - | 2011-10-19 16:39:38 |
| LiebermanAidenHiC2009/ | - | 2011-10-19 16:39:38 |
| MAQCsubset/ | - | 2011-10-19 16:39:38 |
| MAQCsubsetAFX/ | - | 2011-10-19 16:39:38 |
| MAQCsubsetILM/ | - | 2011-10-19 16:39:38 |
| MEEBOdata/ | - | 2011-10-19 16:39:38 |
| NCIgraphData/ | - | 2011-10-19 16:39:38 |
| Neve2006/ | - | 2011-10-19 16:39:38 |
| PREDAsampledata/ | - | 2011-10-19 16:39:38 |
| ProData/ | - | 2011-10-19 16:39:38 |
| RNAinteractMAPK/ | - | 2011-10-19 16:39:38 |
| SNAData/ | - | 2011-10-19 16:39:38 |
| SpikeIn/ | - | 2011-10-19 16:39:38 |
| SpikeInSubset/ | - | 2011-10-19 16:39:38 |
| TargetSearchData/ | - | 2011-10-19 16:39:38 |
| XhybCasneuf/ | - | 2011-10-19 16:39:38 |
| affycompData/ | - | 2011-10-19 16:39:38 |
| affydata/ | - | 2011-10-19 16:39:38 |
| beta7/ | - | 2011-10-19 16:39:38 |
| bladderbatch/ | - | 2011-10-19 16:39:38 |
| breastCancerMAINZ/ | - | 2011-10-19 16:39:38 |
| breastCancerNKI/ | - | 2011-10-19 16:39:38 |
| breastCancerTRANSBIG/ | - | 2011-10-19 16:39:38 |
| breastCancerUNT/ | - | 2011-10-19 16:39:38 |
| breastCancerUPP/ | - | 2011-10-19 16:39:38 |
| breastCancerVDX/ | - | 2011-10-19 16:39:38 |
| bronchialIL13/ | - | 2011-10-19 16:39:38 |
| ccTutorial/ | - | 2011-10-19 16:39:38 |
| ceu1kg/ | - | 2011-10-19 16:39:38 |
| ceuhm3/ | - | 2011-10-19 16:39:38 |
| charmData/ | - | 2011-10-19 16:39:38 |
| cheung2010/ | - | 2011-10-19 16:39:38 |
| colonCA/ | - | 2011-10-19 16:39:38 |
| davidTiling/ | - | 2011-10-19 16:39:38 |
| dressCheck/ | - | 2011-10-19 16:39:38 |
| dyebiasexamples/ | - | 2011-10-19 16:39:38 |
| ecoliLeucine/ | - | 2011-10-19 16:39:38 |
| encoDnaseI/ | - | 2011-10-19 16:39:38 |
| estrogen/ | - | 2011-10-19 16:39:38 |
| faahKO/ | - | 2011-10-19 16:39:38 |
| facsDorit/ | - | 2011-10-19 16:39:38 |
| fibroEset/ | - | 2011-10-19 16:39:38 |
| flowWorkspaceData/ | - | 2011-10-19 16:39:38 |
| frmaExampleData/ | - | 2011-10-19 16:39:38 |
| gageData/ | - | 2011-10-19 16:39:38 |
| gaschYHS/ | - | 2011-10-19 16:39:38 |
| gatingMLData/ | - | 2011-10-19 16:39:38 |
| gcspikelite/ | - | 2011-10-19 16:39:38 |
| geneLenDataBase/ | - | 2011-10-19 16:39:38 |
| ggtut/ | - | 2011-10-19 16:39:38 |
| golubEsets/ | - | 2011-10-19 16:39:38 |
| hapmap100khind/ | - | 2011-10-19 16:39:38 |
| hapmap100kxba/ | - | 2011-10-19 16:39:38 |
| hapmap500knsp/ | - | 2011-10-19 16:39:38 |
| hapmap500ksty/ | - | 2011-10-19 16:39:38 |
| hapmapsnp5/ | - | 2011-10-19 16:39:38 |
| hapmapsnp6/ | - | 2011-10-19 16:39:38 |
| harbChIP/ | - | 2011-10-19 16:39:38 |
| hgu133abarcodevecs/ | - | 2011-10-19 16:39:38 |
| hgu133afrmavecs/ | - | 2011-10-19 16:39:38 |
| hgu133plus2barcodevecs/ | - | 2011-10-19 16:39:38 |
| hgu133plus2frmavecs/ | - | 2011-10-19 16:39:38 |
| hgu2beta7/ | - | 2011-10-19 16:39:38 |
| hmyriB36/ | - | 2011-10-19 16:39:38 |
| humanStemCell/ | - | 2011-10-19 16:39:38 |
| ind1KG/ | - | 2011-10-19 16:39:38 |
| iontreeData/ | - | 2011-10-19 16:39:38 |
| kidpack/ | - | 2011-10-19 16:39:38 |
| leeBamViews/ | - | 2011-10-19 16:39:38 |
| lumiBarnes/ | - | 2011-10-19 16:39:38 |
| lungExpression/ | - | 2011-10-19 16:39:38 |
| maqcExpression4plex/ | - | 2011-10-19 16:39:38 |
| minfiData/ | - | 2011-10-19 16:39:38 |
| mosaicsExample/ | - | 2011-10-19 16:39:38 |
| mouse4302barcodevecs/ | - | 2011-10-19 16:39:38 |
| mouse4302frmavecs/ | - | 2011-10-19 16:39:38 |
| msdata/ | - | 2011-10-19 16:39:38 |
| mvoutData/ | - | 2011-10-19 16:39:38 |
| pasilla/ | - | 2011-10-19 16:39:38 |
| ppiData/ | - | 2011-10-19 16:39:38 |
| pumadata/ | - | 2011-10-19 16:39:38 |
| rfcdmin/ | - | 2011-10-19 16:39:38 |
| simpIntLists/ | - | 2011-10-19 16:39:38 |
| stjudem/ | - | 2011-10-19 16:39:38 |
| tinesath1cdf/ | - | 2011-10-19 16:39:38 |
| tinesath1probe/ | - | 2011-10-19 16:39:38 |
| yeastCC/ | - | 2011-10-19 16:39:38 |
| yeastExpData/ | - | 2011-10-19 16:39:38 |
| yeastGSData/ | - | 2011-10-19 16:39:38 |
| yeastNagalakshmi/ | - | 2011-10-19 16:39:38 |
| yeastRNASeq/ | - | 2011-10-19 16:39:38 |
| STATUS_DB.txt | 27.4 KiB | 2011-10-19 16:39:38 |
| gewurz-NodeInfo.html | 4.9 KiB | 2011-10-19 16:39:38 |
| gewurz-R-instpkgs.html | 55.4 KiB | 2011-10-19 16:39:38 |
| gewurz-index.html | 76.1 KiB | 2011-10-19 16:39:38 |
| index.html | 288.7 KiB | 2011-10-19 16:39:38 |
| lamb1-NodeInfo.html | 4.8 KiB | 2011-10-19 16:39:38 |
| lamb1-R-instpkgs.html | 55.8 KiB | 2011-10-19 16:39:38 |
| lamb1-index.html | 65.6 KiB | 2011-10-19 16:39:38 |
| liverpool-NodeInfo.html | 4.7 KiB | 2011-10-19 16:39:38 |
| liverpool-R-instpkgs.html | 48.5 KiB | 2011-10-19 16:39:38 |
| liverpool-index.html | 62.8 KiB | 2011-10-19 16:39:38 |
| meat-index.txt | 20.9 KiB | 2011-10-19 16:39:38 |
| pelham-NodeInfo.html | 4.9 KiB | 2011-10-19 16:39:38 |
| pelham-R-instpkgs.html | 55.4 KiB | 2011-10-19 16:39:38 |
| pelham-index.html | 75.9 KiB | 2011-10-19 16:39:38 |
| petty-NodeInfo.html | 5.0 KiB | 2011-10-19 16:39:38 |
| petty-R-instpkgs.html | 54.1 KiB | 2011-10-19 16:39:38 |
| petty-index.html | 69.9 KiB | 2011-10-19 16:39:38 |
| report.css | 6.1 KiB | 2011-10-19 16:39:38 |
| report.js | 3.9 KiB | 2011-10-19 16:39:38 |
| report.tgz | 362.2 KiB | 2011-10-19 16:39:38 |