| NCIgraphData 0.99.3 Laurent Jacob
 
 | Snapshot Date: 2012-03-23 11:15:09 -0700 (Fri, 23 Mar 2012) |  | URL: https://hedgehog.fhcrc.org/bioc-data/trunk/experiment/pkgs/NCIgraphData |  | Last Changed Rev: 1836 / Revision: 2028 |  | Last Changed Date: 2011-11-14 17:11:10 -0800 (Mon, 14 Nov 2011) | 
 | wilson2 | Linux (openSUSE 11.4) / x86_64 | OK | [ OK ] |  | 
| moscato1 | Windows Server 2008 R2 Enterprise SP1 (64-bit) / x64 | OK | OK | OK | 
| pitt | Mac OS X Leopard (10.5.8) / i386 | OK | OK | OK | 
* using log directory ‘/loc/home/biocbuild/bbs-2.9-data-experiment/meat/NCIgraphData.Rcheck’
* using R version 2.14.2 (2012-02-29)
* using platform: x86_64-unknown-linux-gnu (64-bit)
* using session charset: UTF-8
* using option ‘--no-vignettes’
* checking for file ‘NCIgraphData/DESCRIPTION’ ... OK
* this is package ‘NCIgraphData’ version ‘0.99.3’
* checking package namespace information ... OK
* checking package dependencies ... OK
* checking if this is a source package ... OK
* checking if there is a namespace ... OK
* checking whether package ‘NCIgraphData’ can be installed ... OK
* checking installed package size ... NOTE
  installed size is  5.4Mb
  sub-directories of 1Mb or more:
    data   5.4Mb
* checking package directory ... OK
* checking for portable file names ... OK
* checking for sufficient/correct file permissions ... OK
* checking DESCRIPTION meta-information ... OK
* checking top-level files ... OK
* checking index information ... OK
* checking package subdirectories ... OK
* checking whether the package can be loaded ... OK
* checking whether the package can be loaded with stated dependencies ... OK
* checking whether the package can be unloaded cleanly ... OK
* checking whether the namespace can be loaded with stated dependencies ... OK
* checking whether the namespace can be unloaded cleanly ... OK
* checking Rd files ... OK
* checking Rd metadata ... OK
* checking Rd cross-references ... OK
* checking for missing documentation entries ... OK
* checking for code/documentation mismatches ... OK
* checking Rd \usage sections ... OK
* checking Rd contents ... OK
* checking for unstated dependencies in examples ... OK
* checking contents of ‘data’ directory ... OK
* checking data for non-ASCII characters ... OK
* checking data for ASCII and uncompressed saves ... NOTE
  
  Note: significantly better compression could be obtained
        by using R CMD build --resave-data
                        old_size new_size compress
  NCI-cyList.RData         4.3Mb    2.0Mb       xz
  reactome-cyList.RData    1.1Mb    558Kb       xz
* checking examples ... OK
* checking PDF version of manual ... OK