More about malbec1
| Hostname: | malbec1 |
| OS: | Linux (Ubuntu 18.04.4 LTS) |
| Arch: | x86_64 |
| Platform: | x86_64-linux-gnu |
| R version: | 3.6.3 (2020-02-29) -- "Holding the Windsock"
|
| R environment variables: | none |
C compiler
| R variable (VAR) | Value ('R CMD config <VAR>' output) |
| CC | gcc |
| CFLAGS | -g -O2 -Wall |
| CPICFLAGS | -fpic |
| CPP | 'config' variable 'CPP' is deprecated |
| Please refer to 'R CMD config -h' for the meaning of these variables |
Compiler version ('gcc --version' output):
gcc (Ubuntu 7.5.0-3ubuntu1~18.04) 7.5.0
Copyright (C) 2017 Free Software Foundation, Inc.
This is free software; see the source for copying conditions. There is NO
warranty; not even for MERCHANTABILITY or FITNESS FOR A PARTICULAR PURPOSE.
C++ compiler
| R variable (VAR) | Value ('R CMD config <VAR>' output) |
| CXX | g++ -std=gnu++11 |
| CXXFLAGS | -g -O2 -Wall |
| CXXPICFLAGS | -fpic |
| CXXCPP | 'config' variable 'CXXCPP' is deprecated |
| Please refer to 'R CMD config -h' for the meaning of these variables |
Compiler version ('g++ -std=gnu++11 --version' output):
g++ (Ubuntu 7.5.0-3ubuntu1~18.04) 7.5.0
Copyright (C) 2017 Free Software Foundation, Inc.
This is free software; see the source for copying conditions. There is NO
warranty; not even for MERCHANTABILITY or FITNESS FOR A PARTICULAR PURPOSE.
C++11 compiler
| R variable (VAR) | Value ('R CMD config <VAR>' output) |
| CXX11 | g++ |
| CXX11FLAGS | -g -O2 -Wall |
| CXX11PICFLAGS | -fpic |
| CXX11STD | -std=gnu++11 |
| Please refer to 'R CMD config -h' for the meaning of these variables |
Compiler version ('g++ --version' output):
g++ (Ubuntu 7.5.0-3ubuntu1~18.04) 7.5.0
Copyright (C) 2017 Free Software Foundation, Inc.
This is free software; see the source for copying conditions. There is NO
warranty; not even for MERCHANTABILITY or FITNESS FOR A PARTICULAR PURPOSE.
C++14 compiler
| R variable (VAR) | Value ('R CMD config <VAR>' output) |
| CXX14 | g++ |
| CXX14FLAGS | -g -O2 -Wall |
| CXX14PICFLAGS | -fpic |
| CXX14STD | -std=gnu++14 |
| Please refer to 'R CMD config -h' for the meaning of these variables |
Compiler version ('g++ --version' output):
g++ (Ubuntu 7.5.0-3ubuntu1~18.04) 7.5.0
Copyright (C) 2017 Free Software Foundation, Inc.
This is free software; see the source for copying conditions. There is NO
warranty; not even for MERCHANTABILITY or FITNESS FOR A PARTICULAR PURPOSE.
More information might be added in the future...