| Back to Long Tests report for BioC 3.12 |
This page was generated on 2021-05-08 14:20:33 -0400 (Sat, 08 May 2021).
|
To the developers/maintainers of the xcms package: Please make sure to use the following settings in order to reproduce any error or warning you see on this page. |
| Package 10/10 | Hostname | OS / Arch | CHECK | |||||||
| xcms 3.12.0 (landing page) Steffen Neumann
| malbec1 | Linux (Ubuntu 18.04.5 LTS) / x86_64 | OK | |||||||
| tokay1 | Windows Server 2012 R2 Standard / x64 | OK | ||||||||
| merida1 | macOS 10.14.6 Mojave / x86_64 | OK | ||||||||
| Package: xcms |
| Version: 3.12.0 |
| Command: chmod a+r xcms -R && C:\Users\biocbuild\bbs-3.12-bioc\R\bin\R.exe CMD build --keep-empty-dirs --no-resave-data --no-build-vignettes --no-manual xcms |
| StartedAt: 2021-05-08 09:33:09 -0400 (Sat, 08 May 2021) |
| EndedAt: 2021-05-08 09:33:19 -0400 (Sat, 08 May 2021) |
| EllapsedTime: 10.1 seconds |
| RetCode: 0 |
| Status: OK |
| PackageFile: xcms_3.12.0.tar.gz |
| PackageFileSize: 725 KiB |
############################################################################## ############################################################################## ### ### Running command: ### ### chmod a+r xcms -R && C:\Users\biocbuild\bbs-3.12-bioc\R\bin\R.exe CMD build --keep-empty-dirs --no-resave-data --no-build-vignettes --no-manual xcms ### ############################################################################## ############################################################################## * checking for file 'xcms/DESCRIPTION' ... OK * preparing 'xcms': * checking DESCRIPTION meta-information ... OK * cleaning src * checking for LF line-endings in source and make files and shell scripts * checking for empty or unneeded directories * looking to see if a 'data/datalist' file should be added * building 'xcms_3.12.0.tar.gz'