| Back to Long Tests report for BioC 3.13 |
This page was generated on 2021-12-11 17:30:01 -0500 (Sat, 11 Dec 2021).
|
To the developers/maintainers of the autonomics package: Please make sure to use the following settings in order to reproduce any error or warning you see on this page. |
| Package 2/20 | Hostname | OS / Arch | CHECK | |||||||
| autonomics 1.3.0 (landing page) Aditya Bhagwat
| rex3 | Linux (Ubuntu 20.04.2 LTS) / x86_64 | ERROR | |||||||
| Package: autonomics |
| Version: 1.3.0 |
| Command: /home/biocbuild/bbs-3.13-bioc/R/bin/R CMD build --keep-empty-dirs --no-resave-data --no-build-vignettes --no-manual autonomics |
| StartedAt: 2021-12-11 09:30:16 -0500 (Sat, 11 Dec 2021) |
| EndedAt: 2021-12-11 09:30:19 -0500 (Sat, 11 Dec 2021) |
| EllapsedTime: 3.2 seconds |
| RetCode: 0 |
| Status: OK |
| PackageFile: autonomics_1.3.0.tar.gz |
| PackageFileSize: 102.7 KiB |
############################################################################## ############################################################################## ### ### Running command: ### ### /home/biocbuild/bbs-3.13-bioc/R/bin/R CMD build --keep-empty-dirs --no-resave-data --no-build-vignettes --no-manual autonomics ### ############################################################################## ############################################################################## * checking for file ‘autonomics/DESCRIPTION’ ... OK * preparing ‘autonomics’: * checking DESCRIPTION meta-information ... OK * checking for LF line-endings in source and make files and shell scripts * checking for empty or unneeded directories * building ‘autonomics_1.3.0.tar.gz’