See here for how to subscribe to these builds.
This page was generated on 2021-12-11 17:30:01 -0500 (Sat, 11 Dec 2021).
|
| Hostname | OS | Arch (*) | Platform label (**) | R version | Installed pkgs |
|---|---|---|---|---|---|
| rex3 | Linux (Ubuntu 20.04.2 LTS) | x86_64 | x86_64-linux-gnu | R Under development (unstable) (2021-02-10 r79979) -- "Unsuffered Consequences" | 4345 |
| Click on any hostname to see more info about the system (e.g. compilers) (*) as reported by 'uname -p', except on Windows and Mac OS X (**) as reported by 'gcc -v' | |||||
| QUICK STATS | OS / Arch | CHECK | |||||||
| rex3 | Linux (Ubuntu 20.04.2 LTS) / x86_64 |
| |||||||
| Package | Maintainer | CHECK | |||||||
| 1/20 | APAlyzer 1.9.1 (landing page) | Ruijia Wang | ERROR | ||||||
| 2/20 | autonomics 1.3.0 (landing page) | Aditya Bhagwat | ERROR | ||||||
| 3/20 | beachmat 2.11.0 (landing page) | Aaron Lun | ERROR | ||||||
| 4/20 | biodb 1.3.1 (landing page) | Pierrick Roger | OK | ||||||
| 5/20 | biodbChebi 1.1.0 (landing page) | Pierrick Roger | OK | ||||||
| 6/20 | biodbHmdb 1.1.1 (landing page) | Pierrick Roger | OK | ||||||
| 7/20 | biodbKegg 1.1.0 (landing page) | Pierrick Roger | OK | ||||||
| 8/20 | biodbLipidmaps 1.1.0 (landing page) | Pierrick Roger | OK | ||||||
| 9/20 | biodbUniprot 1.1.0 (landing page) | Pierrick Roger | OK | ||||||
| 10/20 | cBioPortalData 2.7.3 (landing page) | Marcel Ramos | ERROR | ||||||
| 11/20 | ChromSCape 1.5.0 (landing page) | Pacome Prompsy | ERROR | ||||||
| 12/20 | clusterExperiment 2.15.1 (landing page) | Elizabeth Purdom | ERROR | ||||||
| 13/20 | DelayedMatrixStats 1.17.0 (landing page) | Peter Hickey | OK | ||||||
| 14/20 | DropletUtils 1.15.2 (landing page) | Jonathan Griffiths | ERROR | ||||||
| 15/20 | GenomicFeatures 1.47.3 (landing page) | Bioconductor Package Maintainer | WARNINGS | ||||||
| 16/20 | HDF5Array 1.23.2 (landing page) | Hervé Pagès | ERROR | ||||||
| 17/20 | midasHLA 1.3.0 (landing page) | Maciej Migdał | ERROR | ||||||
| 18/20 | rhdf5 2.39.2 (landing page) | Mike Smith | OK | ||||||
| 19/20 | xcms 3.17.3 (landing page) | Steffen Neumann | ERROR | ||||||
| 20/20 | zellkonverter 1.5.0 (landing page) | Luke Zappia | ERROR | ||||||