| Back to Build/check report for BioC 3.13 experimental data |
|
This page was generated on 2021-10-16 15:58:41 -0400 (Sat, 16 Oct 2021).
|
To the developers/maintainers of the KEGGandMetacoreDzPathwaysGEO package: Make sure to use the following settings in order to reproduce any error or warning you see on this page. |
| Package 198/406 | Hostname | OS / Arch | INSTALL | BUILD | CHECK | ||||||||
| KEGGandMetacoreDzPathwaysGEO 1.12.0 (landing page) Gaurav Bhatti
| malbec2 | Linux (Ubuntu 20.04.2 LTS) / x86_64 | OK | OK | OK | ||||||||
| Package: KEGGandMetacoreDzPathwaysGEO |
| Version: 1.12.0 |
| Command: /home/biocbuild/bbs-3.13-bioc/R/bin/R CMD check --install=check:KEGGandMetacoreDzPathwaysGEO.install-out.txt --library=/home/biocbuild/bbs-3.13-bioc/R/library --no-vignettes --timings KEGGandMetacoreDzPathwaysGEO_1.12.0.tar.gz |
| StartedAt: 2021-10-16 13:25:40 -0400 (Sat, 16 Oct 2021) |
| EndedAt: 2021-10-16 13:26:34 -0400 (Sat, 16 Oct 2021) |
| EllapsedTime: 54.2 seconds |
| RetCode: 0 |
| Status: OK |
| CheckDir: KEGGandMetacoreDzPathwaysGEO.Rcheck |
| Warnings: 0 |
##############################################################################
##############################################################################
###
### Running command:
###
### /home/biocbuild/bbs-3.13-bioc/R/bin/R CMD check --install=check:KEGGandMetacoreDzPathwaysGEO.install-out.txt --library=/home/biocbuild/bbs-3.13-bioc/R/library --no-vignettes --timings KEGGandMetacoreDzPathwaysGEO_1.12.0.tar.gz
###
##############################################################################
##############################################################################
* using log directory ‘/home/biocbuild/bbs-3.13-data-experiment/meat/KEGGandMetacoreDzPathwaysGEO.Rcheck’
* using R version 4.1.1 (2021-08-10)
* using platform: x86_64-pc-linux-gnu (64-bit)
* using session charset: UTF-8
* using option ‘--no-vignettes’
* checking for file ‘KEGGandMetacoreDzPathwaysGEO/DESCRIPTION’ ... OK
* checking extension type ... Package
* this is package ‘KEGGandMetacoreDzPathwaysGEO’ version ‘1.12.0’
* checking package namespace information ... OK
* checking package dependencies ... OK
* checking if this is a source package ... OK
* checking if there is a namespace ... OK
* checking for hidden files and directories ... NOTE
Found the following hidden files and directories:
.git_fetch_output.txt
.git_merge_output.txt
These were most likely included in error. See section ‘Package
structure’ in the ‘Writing R Extensions’ manual.
* checking for portable file names ... OK
* checking for sufficient/correct file permissions ... OK
* checking whether package ‘KEGGandMetacoreDzPathwaysGEO’ can be installed ... OK
* checking installed package size ... NOTE
installed size is 98.7Mb
sub-directories of 1Mb or more:
data 98.5Mb
* checking package directory ... OK
* checking ‘build’ directory ... OK
* checking DESCRIPTION meta-information ... OK
* checking top-level files ... OK
* checking for left-over files ... OK
* checking index information ... OK
* checking package subdirectories ... OK
* checking whether the package can be loaded ... OK
* checking whether the package can be loaded with stated dependencies ... OK
* checking whether the package can be unloaded cleanly ... OK
* checking whether the namespace can be loaded with stated dependencies ... OK
* checking whether the namespace can be unloaded cleanly ... OK
* checking Rd files ... OK
* checking Rd metadata ... OK
* checking Rd cross-references ... OK
* checking for missing documentation entries ... OK
* checking for code/documentation mismatches ... OK
* checking Rd \usage sections ... OK
* checking Rd contents ... OK
* checking for unstated dependencies in examples ... OK
* checking contents of ‘data’ directory ... OK
* checking data for non-ASCII characters ... OK
* checking data for ASCII and uncompressed saves ... OK
* checking files in ‘vignettes’ ... OK
* checking examples ... OK
* checking for unstated dependencies in vignettes ... OK
* checking package vignettes in ‘inst/doc’ ... OK
* checking running R code from vignettes ... SKIPPED
* checking re-building of vignette outputs ... SKIPPED
* checking PDF version of manual ... OK
* DONE
Status: 2 NOTEs
See
‘/home/biocbuild/bbs-3.13-data-experiment/meat/KEGGandMetacoreDzPathwaysGEO.Rcheck/00check.log’
for details.
KEGGandMetacoreDzPathwaysGEO.Rcheck/00install.out
############################################################################## ############################################################################## ### ### Running command: ### ### /home/biocbuild/bbs-3.13-bioc/R/bin/R CMD INSTALL KEGGandMetacoreDzPathwaysGEO ### ############################################################################## ############################################################################## * installing to library ‘/home/biocbuild/bbs-3.13-bioc/R/library’ * installing *source* package ‘KEGGandMetacoreDzPathwaysGEO’ ... ** using staged installation ** data ** help *** installing help indices ** building package indices ** installing vignettes ** testing if installed package can be loaded from temporary location ** testing if installed package can be loaded from final location ** testing if installed package keeps a record of temporary installation path * DONE (KEGGandMetacoreDzPathwaysGEO)
KEGGandMetacoreDzPathwaysGEO.Rcheck/KEGGandMetacoreDzPathwaysGEO-Ex.timings
| name | user | system | elapsed | |
| GSE1145 | 0.383 | 0.007 | 0.391 | |
| GSE11906 | 2.733 | 0.039 | 2.773 | |
| GSE14924_CD4 | 0.247 | 0.007 | 0.255 | |
| GSE14924_CD8 | 0.248 | 0.008 | 0.256 | |
| GSE16759 | 0.305 | 0.016 | 0.321 | |
| GSE19420 | 0.242 | 0.007 | 0.249 | |
| GSE20164 | 0.073 | 0.001 | 0.073 | |
| GSE22780 | 0.235 | 0.004 | 0.240 | |
| GSE23878 | 0.762 | 0.019 | 0.782 | |
| GSE24739_G0 | 0.430 | 0.001 | 0.430 | |
| GSE24739_G1 | 0.416 | 0.007 | 0.424 | |
| GSE30153 | 0.516 | 0.008 | 0.524 | |
| GSE32676 | 0.686 | 0.003 | 0.691 | |
| GSE38666_epithelia | 0.332 | 0.012 | 0.344 | |
| GSE38666_stroma | 0.217 | 0.004 | 0.222 | |
| GSE4183 | 0.268 | 0.003 | 0.272 | |
| GSE42057 | 0.923 | 0.001 | 0.923 | |
| GSE7305 | 0.646 | 0.011 | 0.657 | |
| KEGGandMetacoreDzPathwaysGEO-package | 0.623 | 0.008 | 0.644 | |