Package: DelayedMatrixStats Version: 1.16.0 Command: /Library/Frameworks/R.framework/Resources/bin/R CMD build --keep-empty-dirs --no-resave-data --no-build-vignettes --no-manual DelayedMatrixStats StartedAt: 2022-04-09 08:01:23 -0400 (Sat, 09 Apr 2022) EndedAt: 2022-04-09 08:01:50 -0400 (Sat, 09 Apr 2022) EllapsedTime: 26.9 seconds RetCode: 0 Status: OK PackageFile: DelayedMatrixStats_1.16.0.tar.gz PackageFileSize: 46.25 KiB