| Back to Long Tests report for BioC 3.14 |
This page was generated on 2022-04-09 21:00:03 -0400 (Sat, 09 Apr 2022).
| Hostname | OS | Arch (*) | R version | Installed pkgs |
|---|---|---|---|---|
| nebbiolo2 | Linux (Ubuntu 20.04.4 LTS) | x86_64 | 4.1.3 (2022-03-10) -- "One Push-Up" | 4322 |
| riesling1 | Windows Server 2019 Standard | x64 | 4.1.2 (2021-11-01) -- "Bird Hippie" | 4108 |
| machv2 | macOS 10.14.6 Mojave | x86_64 | 4.1.3 (2022-03-10) -- "One Push-Up" | 4135 |
| Click on any hostname to see more info about the system (e.g. compilers) (*) as reported by 'uname -p', except on Windows and Mac OS X | ||||
|
To the developers/maintainers of the GenomicFeatures package: Make sure to use the following settings in order to reproduce any error or warning you see on this page. |
| Package 14/19 | Hostname | OS / Arch | CHECK | |||||||
| GenomicFeatures 1.46.5 (landing page) Bioconductor Package Maintainer
| nebbiolo2 | Linux (Ubuntu 20.04.4 LTS) / x86_64 | WARNINGS | |||||||
| riesling1 | Windows Server 2019 Standard / x64 | WARNINGS | ||||||||
| machv2 | macOS 10.14.6 Mojave / x86_64 | WARNINGS | ||||||||
| Package: GenomicFeatures |
| Version: 1.46.5 |
| Command: chmod a+r GenomicFeatures -R && D:\biocbuild\bbs-3.14-bioc\R\bin\R.exe CMD build --keep-empty-dirs --no-resave-data --no-build-vignettes --no-manual GenomicFeatures |
| StartedAt: 2022-04-09 08:02:27 -0400 (Sat, 09 Apr 2022) |
| EndedAt: 2022-04-09 08:03:32 -0400 (Sat, 09 Apr 2022) |
| EllapsedTime: 65.0 seconds |
| RetCode: 0 |
| Status: OK |
| PackageFile: GenomicFeatures_1.46.5.tar.gz |
| PackageFileSize: 1.103 MiB |
############################################################################## ############################################################################## ### ### Running command: ### ### chmod a+r GenomicFeatures -R && D:\biocbuild\bbs-3.14-bioc\R\bin\R.exe CMD build --keep-empty-dirs --no-resave-data --no-build-vignettes --no-manual GenomicFeatures ### ############################################################################## ############################################################################## * checking for file 'GenomicFeatures/DESCRIPTION' ... OK * preparing 'GenomicFeatures': * checking DESCRIPTION meta-information ... OK * checking for LF line-endings in source and make files and shell scripts * checking for empty or unneeded directories * building 'GenomicFeatures_1.46.5.tar.gz'