| Back to Long Tests report for BioC 3.16 |
This page was generated on 2023-04-15 21:30:03 -0400 (Sat, 15 Apr 2023).
| Hostname | OS | Arch (*) | R version | Installed pkgs |
|---|---|---|---|---|
| nebbiolo2 | Linux (Ubuntu 20.04.5 LTS) | x86_64 | 4.2.3 (2023-03-15) -- "Shortstop Beagle" | 4502 |
| palomino4 | Windows Server 2022 Datacenter | x64 | 4.2.3 (2023-03-15 ucrt) -- "Shortstop Beagle" | 4282 |
| lconway | macOS 12.5.1 Monterey | x86_64 | 4.2.3 (2023-03-15) -- "Shortstop Beagle" | 4310 |
| Click on any hostname to see more info about the system (e.g. compilers) (*) as reported by 'uname -p', except on Windows and Mac OS X | ||||
|
To the developers/maintainers of the SimBu package: Make sure to use the following settings in order to reproduce any error or warning you see on this page. |
| Package 26/28 | Hostname | OS / Arch | CHECK | |||||||
| SimBu 1.0.2 (landing page) Alexander Dietrich
| nebbiolo2 | Linux (Ubuntu 20.04.5 LTS) / x86_64 | ERROR | |||||||
| palomino4 | Windows Server 2022 Datacenter / x64 | ERROR | ||||||||
| lconway | macOS 12.5.1 Monterey / x86_64 | ERROR | ||||||||
| Package: SimBu |
| Version: 1.0.2 |
| Command: /Library/Frameworks/R.framework/Resources/bin/R CMD build --keep-empty-dirs --no-resave-data --no-build-vignettes --no-manual SimBu |
| StartedAt: 2023-04-15 08:01:05 -0400 (Sat, 15 Apr 2023) |
| EndedAt: 2023-04-15 08:01:27 -0400 (Sat, 15 Apr 2023) |
| EllapsedTime: 21.8 seconds |
| RetCode: 0 |
| Status: OK |
| PackageFile: SimBu_1.0.2.tar.gz |
| PackageFileSize: 56.42 KiB |
############################################################################## ############################################################################## ### ### Running command: ### ### /Library/Frameworks/R.framework/Resources/bin/R CMD build --keep-empty-dirs --no-resave-data --no-build-vignettes --no-manual SimBu ### ############################################################################## ############################################################################## * checking for file ‘SimBu/DESCRIPTION’ ... OK * preparing ‘SimBu’: * checking DESCRIPTION meta-information ... OK * checking for LF line-endings in source and make files and shell scripts * checking for empty or unneeded directories * building ‘SimBu_1.0.2.tar.gz’