| Back to Build/check report for BioC 3.16 annotations | 
 | 
This page was generated on 2023-04-12 06:00:10 -0400 (Wed, 12 Apr 2023).
| Hostname | OS | Arch (*) | R version | Installed pkgs | 
|---|---|---|---|---|
| nebbiolo2 | Linux (Ubuntu 20.04.5 LTS) | x86_64 | 4.2.3 (2023-03-15) -- "Shortstop Beagle" | 4502 | 
| Click on any hostname to see more info about the system (e.g. compilers) (*) as reported by 'uname -p', except on Windows and Mac OS X | ||||
| To the developers/maintainers of the JASPAR2020 package: Make sure to use the following settings in order to reproduce any error or warning you see on this page. | 
| Package 23/36 | Hostname | OS / Arch | INSTALL | BUILD | CHECK | ||||||||
| JASPAR2020 0.99.8  (landing page) Damir Baranasic 
 | nebbiolo2 | Linux (Ubuntu 20.04.5 LTS) / x86_64 | OK | OK | OK |  | |||||||