Package: ExpressionNormalizationWorkflow Version: 1.24.0 Command: /Library/Frameworks/R.framework/Resources/bin/R CMD build --keep-empty-dirs --no-resave-data ExpressionNormalizationWorkflow StartedAt: 2023-04-11 11:02:43 -0400 (Tue, 11 Apr 2023) EndedAt: 2023-04-11 11:08:00 -0400 (Tue, 11 Apr 2023) EllapsedTime: 317.3 seconds RetCode: 0 Status: OK PackageFile: ExpressionNormalizationWorkflow_1.24.0.tar.gz PackageFileSize: 3.036 MiB