This page was generated on 2023-10-11 08:30:04 -0400 (Wed, 11 Oct 2023).
|
| Hostname | OS | Arch (*) | R version | Installed pkgs |
|---|---|---|---|---|
| nebbiolo1 | Linux (Ubuntu 22.04.2 LTS) | x86_64 | 4.3.1 (2023-06-16) -- "Beagle Scouts" | 4626 |
| Click on any hostname to see more info about the system (e.g. compilers) (*) as reported by 'uname -p', except on Windows and Mac OS X | ||||
A | |||||||||
| QUICK STATS | OS / Arch | INSTALL | BUILD | CHECK | |||||||||||||||||||||||||||||||
| nebbiolo1 | Linux (Ubuntu 22.04.2 LTS) / x86_64 |
|
|
| |||||||||||||||||||||||||||||||
|
| ||||||||||||||||||||||||||||||||||
| Package | Maintainer | INSTALL | BUILD | CHECK | |||||||||||||||||||||||||||||||
| 1/37 | AHCytoBands 0.99.1 (landing page) | Michael Lawrence | OK | OK | OK | ||||||||||||||||||||||||||||||
| 2/37 | AHEnsDbs 1.1.10 (landing page) | Johannes Rainer | OK | OK | OK | ||||||||||||||||||||||||||||||
| 3/37 | AHLRBaseDbs 0.99.3 (landing page) | Koki Tsuyuzaki | OK | OK | OK | ||||||||||||||||||||||||||||||
| 4/37 | AHMeSHDbs 0.99.6 (landing page) | Koki Tsuyuzaki | OK | OK | OK | ||||||||||||||||||||||||||||||
| 5/37 | AHPathbankDbs 0.99.5 (landing page) | Kozo Nishida | OK | OK | OK | ||||||||||||||||||||||||||||||
| 6/37 | AHPubMedDbs 0.99.8 (landing page) | Koki Tsuyuzaki | OK | OK | OK | ||||||||||||||||||||||||||||||
| 7/37 | AHWikipathwaysDbs 0.99.4 (landing page) | Kozo Nishida | OK | OK | OK | ||||||||||||||||||||||||||||||
| 8/37 | alternativeSplicingEvents.hg19 1.1.0 (landing page) | Nuno Agostinho | OK | OK | OK | ||||||||||||||||||||||||||||||
| 9/37 | alternativeSplicingEvents.hg38 1.1.0 (landing page) | Nuno Agostinho | OK | OK | OK | ||||||||||||||||||||||||||||||
|
| ||||||||||||||||||||||||||||||||||
| Package | Maintainer | INSTALL | BUILD | CHECK | |||||||||||||||||||||||||||||||
| 10/37 | BioMartGOGeneSets 0.99.10 (landing page) | Zuguang Gu | OK | OK | OK | ||||||||||||||||||||||||||||||
|
| ||||||||||||||||||||||||||||||||||
| Package | Maintainer | INSTALL | BUILD | CHECK | |||||||||||||||||||||||||||||||
| 11/37 | chromhmmData 0.99.2 (landing page) | Mahmoud Ahmed | OK | OK | OK | ||||||||||||||||||||||||||||||
| 12/37 | CTCF 0.99.11 (landing page) | Mikhail Dozmorov | OK | OK | OK | ||||||||||||||||||||||||||||||
|
| ||||||||||||||||||||||||||||||||||
| Package | Maintainer | INSTALL | BUILD | CHECK | |||||||||||||||||||||||||||||||
| 13/37 | ENCODExplorerData 0.99.5 (landing page) | Eric Fournier | OK | OK | ERROR | ||||||||||||||||||||||||||||||
| 14/37 | EpiTxDb.Hs.hg38 0.99.7 (landing page) | Felix G.M. Ernst | OK | OK | OK | ||||||||||||||||||||||||||||||
| 15/37 | EpiTxDb.Mm.mm10 0.99.6 (landing page) | Felix G.M. Ernst | OK | OK | OK | ||||||||||||||||||||||||||||||
| 16/37 | EpiTxDb.Sc.sacCer3 0.99.5 (landing page) | Felix G.M. Ernst | OK | OK | OK | ||||||||||||||||||||||||||||||
| 17/37 | EuPathDB 1.0.1 (landing page) | Keith Hughitt | OK | ERROR | skipped | ||||||||||||||||||||||||||||||
| 18/37 | excluderanges 0.99.8 (landing page) | Mikhail Dozmorov | OK | OK | OK | ||||||||||||||||||||||||||||||
|
| ||||||||||||||||||||||||||||||||||
| Package | Maintainer | INSTALL | BUILD | CHECK | |||||||||||||||||||||||||||||||
| 19/37 | geneplast.data 0.99.7 (landing page) | Leonardo Campos | OK | OK | OK | ||||||||||||||||||||||||||||||
| 20/37 | GeneSummary 0.99.5 (landing page) | Zuguang Gu | OK | OK | OK | ||||||||||||||||||||||||||||||
| 21/37 | GenomicState 0.99.15 (landing page) | Leonardo Collado-Torres | OK | OK | OK | ||||||||||||||||||||||||||||||
| 22/37 | gwascatData 0.99.6 (landing page) | Sara Stankiewicz | OK | OK | ERROR | ||||||||||||||||||||||||||||||
|
| ||||||||||||||||||||||||||||||||||
| Package | Maintainer | INSTALL | BUILD | CHECK | |||||||||||||||||||||||||||||||
| 23/37 | hpAnnot 1.1.0 (landing page) | Marta R. Hidalgo | OK | OK | ERROR | ||||||||||||||||||||||||||||||
|
| ||||||||||||||||||||||||||||||||||
| Package | Maintainer | INSTALL | BUILD | CHECK | |||||||||||||||||||||||||||||||
| 24/37 | JASPAR2020 0.99.8 (landing page) | Damir Baranasic | OK | OK | ERROR | ||||||||||||||||||||||||||||||
| 25/37 | JASPAR2022 0.99.7 (landing page) | Damir Baranasic | OK | OK | OK | ||||||||||||||||||||||||||||||
|
| ||||||||||||||||||||||||||||||||||
| Package | Maintainer | INSTALL | BUILD | CHECK | |||||||||||||||||||||||||||||||
| 26/37 | metaboliteIDmapping 0.99.10 (landing page) | Sebastian Canzler | OK | OK | ERROR | ||||||||||||||||||||||||||||||
|
| ||||||||||||||||||||||||||||||||||
| Package | Maintainer | INSTALL | BUILD | CHECK | |||||||||||||||||||||||||||||||
| 27/37 | ontoProcData 0.99.9904 (landing page) | Sara Stankiewicz | OK | OK | ERROR | ||||||||||||||||||||||||||||||
| 28/37 | org.Mxanthus.db 1.0.27 (landing page) | Eduardo Illueca Fernández | OK | OK | WARNINGS | ||||||||||||||||||||||||||||||
|
| ||||||||||||||||||||||||||||||||||
| Package | Maintainer | INSTALL | BUILD | CHECK | |||||||||||||||||||||||||||||||
| 29/37 | PANTHER.db 1.0.10 (landing page) | Julius Muller | OK | OK | OK | ||||||||||||||||||||||||||||||
| 30/37 | phastCons30way.UCSC.hg38 3.13.0 (landing page) | Robert Castelo | OK | OK | ERROR | ||||||||||||||||||||||||||||||
|
| ||||||||||||||||||||||||||||||||||
| Package | Maintainer | INSTALL | BUILD | CHECK | |||||||||||||||||||||||||||||||
| 31/37 | rat2302frmavecs 0.99.11 (landing page) | Sylvain Gubian | OK | OK | OK | ||||||||||||||||||||||||||||||
| 32/37 | rGenomeTracksData 0.99.0 (landing page) | Omar Elashkar | OK | OK | OK | ||||||||||||||||||||||||||||||
|
| ||||||||||||||||||||||||||||||||||
| Package | Maintainer | INSTALL | BUILD | CHECK | |||||||||||||||||||||||||||||||
| 33/37 | scAnnotatR.models 0.99.10 (landing page) | Johannes Griss | OK | ERROR | skipped | ||||||||||||||||||||||||||||||
| 34/37 | synaptome.data 0.99.6 (landing page) | Oksana Sorokina | OK | OK | OK | ||||||||||||||||||||||||||||||
| 35/37 | synaptome.db 0.99.12 (landing page) | Oksana Sorokina | OK | OK | ERROR | ||||||||||||||||||||||||||||||
|
| ||||||||||||||||||||||||||||||||||
| Package | Maintainer | INSTALL | BUILD | CHECK | |||||||||||||||||||||||||||||||
| 36/37 | UCSCRepeatMasker 3.17.3 (landing page) | Robert Castelo | OK | OK | ERROR | ||||||||||||||||||||||||||||||
| 37/37 | UniProtKeywords 0.99.6 (landing page) | Zuguang Gu | OK | OK | OK | ||||||||||||||||||||||||||||||