Package: GeuvadisTranscriptExpr Version: 1.28.0 Command: /home/biocbuild/bbs-3.17-bioc/R/bin/R CMD INSTALL GeuvadisTranscriptExpr StartedAt: 2023-10-12 10:01:06 -0400 (Thu, 12 Oct 2023) EndedAt: 2023-10-12 10:01:08 -0400 (Thu, 12 Oct 2023) EllapsedTime: 2.5 seconds RetCode: 0 Status: OK