Package: ConsensusClusterPlus Version: 1.66.0 Command: /home/biocbuild/bbs-3.18-bioc/R/bin/R CMD build --keep-empty-dirs --no-resave-data ConsensusClusterPlus StartedAt: 2024-04-15 16:35:32 -0400 (Mon, 15 Apr 2024) EndedAt: 2024-04-15 16:35:41 -0400 (Mon, 15 Apr 2024) EllapsedTime: 8.9 seconds RetCode: 0 Status: OK PackageFile: ConsensusClusterPlus_1.66.0.tar.gz PackageFileSize: 230.5 KiB