| Back to Mac ARM64 build report for BioC 3.18 |
|
This page was generated on 2024-04-18 11:32:06 -0400 (Thu, 18 Apr 2024).
| Hostname | OS | Arch (*) | R version | Installed pkgs |
|---|---|---|---|---|
| kjohnson1 | macOS 13.6.1 Ventura | arm64 | 4.3.3 (2024-02-29) -- "Angel Food Cake" | 4388 |
| Click on any hostname to see more info about the system (e.g. compilers) (*) as reported by 'uname -p', except on Windows and Mac OS X | ||||
| Package 68/2266 | Hostname | OS / Arch | INSTALL | BUILD | CHECK | BUILD BIN | ||||||||
| annotate 1.80.0 (landing page) Bioconductor Package Maintainer
| kjohnson1 | macOS 13.6.1 Ventura / arm64 | OK | OK | OK | OK | ||||||||
|
To the developers/maintainers of the annotate package: - Use the following Renviron settings to reproduce errors and warnings. - If 'R CMD check' started to fail recently on the Linux builder(s) over a missing dependency, add the missing dependency to 'Suggests:' in your DESCRIPTION file. See Renviron.bioc for more information. |
| Package: annotate |
| Version: 1.80.0 |
| Command: /Library/Frameworks/R.framework/Resources/bin/R CMD check --install=check:annotate.install-out.txt --library=/Library/Frameworks/R.framework/Resources/library --no-vignettes --timings annotate_1.80.0.tar.gz |
| StartedAt: 2024-04-17 05:33:51 -0400 (Wed, 17 Apr 2024) |
| EndedAt: 2024-04-17 05:47:51 -0400 (Wed, 17 Apr 2024) |
| EllapsedTime: 840.3 seconds |
| RetCode: 0 |
| Status: OK |
| CheckDir: annotate.Rcheck |
| Warnings: 0 |
##############################################################################
##############################################################################
###
### Running command:
###
### /Library/Frameworks/R.framework/Resources/bin/R CMD check --install=check:annotate.install-out.txt --library=/Library/Frameworks/R.framework/Resources/library --no-vignettes --timings annotate_1.80.0.tar.gz
###
##############################################################################
##############################################################################
* using log directory ‘/Users/biocbuild/bbs-3.18-bioc-mac-arm64/meat/annotate.Rcheck’
* using R version 4.3.3 (2024-02-29)
* using platform: aarch64-apple-darwin20 (64-bit)
* R was compiled by
Apple clang version 14.0.0 (clang-1400.0.29.202)
GNU Fortran (GCC) 12.2.0
* running under: macOS Ventura 13.6.1
* using session charset: UTF-8
* using option ‘--no-vignettes’
* checking for file ‘annotate/DESCRIPTION’ ... OK
* this is package ‘annotate’ version ‘1.80.0’
* checking package namespace information ... OK
* checking package dependencies ... OK
* checking if this is a source package ... OK
* checking if there is a namespace ... OK
* checking for hidden files and directories ... OK
* checking for portable file names ... OK
* checking for sufficient/correct file permissions ... OK
* checking whether package ‘annotate’ can be installed ... OK
* checking installed package size ... OK
* checking package directory ... OK
* checking ‘build’ directory ... OK
* checking DESCRIPTION meta-information ... OK
* checking top-level files ... OK
* checking for left-over files ... OK
* checking index information ... OK
* checking package subdirectories ... OK
* checking R files for non-ASCII characters ... OK
* checking R files for syntax errors ... OK
* checking whether the package can be loaded ... OK
* checking whether the package can be loaded with stated dependencies ... OK
* checking whether the package can be unloaded cleanly ... OK
* checking whether the namespace can be loaded with stated dependencies ... OK
* checking whether the namespace can be unloaded cleanly ... OK
* checking startup messages can be suppressed ... OK
* checking dependencies in R code ... NOTE
Unexported object imported by a ':::' call: ‘BiocGenerics:::testPackage’
See the note in ?`:::` about the use of this operator.
* checking S3 generic/method consistency ... OK
* checking replacement functions ... OK
* checking foreign function calls ... OK
* checking R code for possible problems ... OK
* checking Rd files ... NOTE
checkRd: (-1) chrCats.Rd:13: Escaped LaTeX specials: \_
checkRd: (-1) chrCats.Rd:14: Escaped LaTeX specials: \_
checkRd: (-1) chrCats.Rd:47: Escaped LaTeX specials: \_
checkRd: (-1) chrCats.Rd:53: Escaped LaTeX specials: \_
checkRd: (-1) chrCats.Rd:60: Escaped LaTeX specials: \_
checkRd: (-1) chrCats.Rd:69: Escaped LaTeX specials: \_ \_
checkRd: (-1) chrCats.Rd:77: Escaped LaTeX specials: \_
checkRd: (-1) htmlpage.Rd:56: Escaped LaTeX specials: \_
checkRd: (-1) htmlpage.Rd:57: Escaped LaTeX specials: \_
* checking Rd metadata ... OK
* checking Rd cross-references ... OK
* checking for missing documentation entries ... OK
* checking for code/documentation mismatches ... OK
* checking Rd \usage sections ... OK
* checking Rd contents ... OK
* checking for unstated dependencies in examples ... OK
* checking contents of ‘data’ directory ... OK
* checking data for non-ASCII characters ... OK
* checking data for ASCII and uncompressed saves ... OK
* checking sizes of PDF files under ‘inst/doc’ ... OK
* checking files in ‘vignettes’ ... OK
* checking examples ... OK
Examples with CPU (user + system) or elapsed time > 5s
user system elapsed
blastSequences 466.306 1.641 572.200
chrCats 6.869 0.038 6.973
* checking for unstated dependencies in ‘tests’ ... OK
* checking tests ...
Running ‘annotate_unit_tests.R’
OK
* checking for unstated dependencies in vignettes ... OK
* checking package vignettes in ‘inst/doc’ ... OK
* checking running R code from vignettes ... SKIPPED
* checking re-building of vignette outputs ... SKIPPED
* checking PDF version of manual ... OK
* DONE
Status: 2 NOTEs
See
‘/Users/biocbuild/bbs-3.18-bioc-mac-arm64/meat/annotate.Rcheck/00check.log’
for details.
annotate.Rcheck/00install.out
############################################################################## ############################################################################## ### ### Running command: ### ### /Library/Frameworks/R.framework/Resources/bin/R CMD INSTALL annotate ### ############################################################################## ############################################################################## * installing to library ‘/Library/Frameworks/R.framework/Versions/4.3-arm64/Resources/library’ * installing *source* package ‘annotate’ ... ** using staged installation ** R ** data ** inst ** byte-compile and prepare package for lazy loading ** help *** installing help indices ** building package indices ** installing vignettes ** testing if installed package can be loaded from temporary location ** testing if installed package can be loaded from final location ** testing if installed package keeps a record of temporary installation path * DONE (annotate)
annotate.Rcheck/tests/annotate_unit_tests.Rout
R version 4.3.3 (2024-02-29) -- "Angel Food Cake"
Copyright (C) 2024 The R Foundation for Statistical Computing
Platform: aarch64-apple-darwin20 (64-bit)
R is free software and comes with ABSOLUTELY NO WARRANTY.
You are welcome to redistribute it under certain conditions.
Type 'license()' or 'licence()' for distribution details.
R is a collaborative project with many contributors.
Type 'contributors()' for more information and
'citation()' on how to cite R or R packages in publications.
Type 'demo()' for some demos, 'help()' for on-line help, or
'help.start()' for an HTML browser interface to help.
Type 'q()' to quit R.
> BiocGenerics:::testPackage("annotate")
Attaching package: 'BiocGenerics'
The following objects are masked from 'package:stats':
IQR, mad, sd, var, xtabs
The following objects are masked from 'package:base':
Filter, Find, Map, Position, Reduce, anyDuplicated, aperm, append,
as.data.frame, basename, cbind, colnames, dirname, do.call,
duplicated, eval, evalq, get, grep, grepl, intersect, is.unsorted,
lapply, mapply, match, mget, order, paste, pmax, pmax.int, pmin,
pmin.int, rank, rbind, rownames, sapply, setdiff, sort, table,
tapply, union, unique, unsplit, which.max, which.min
Welcome to Bioconductor
Vignettes contain introductory material; view with
'browseVignettes()'. To cite Bioconductor, see
'citation("Biobase")', and for packages 'citation("pkgname")'.
Attaching package: 'S4Vectors'
The following object is masked from 'package:utils':
findMatches
The following objects are masked from 'package:base':
I, expand.grid, unname
Loading required package: org.Hs.eg.db
'select()' returned 1:many mapping between keys and columns
RUNIT TEST PROTOCOL -- Wed Apr 17 05:47:39 2024
***********************************************
Number of test functions: 1
Number of errors: 0
Number of failures: 0
1 Test Suite :
annotate RUnit Tests - 1 test function, 0 errors, 0 failures
Number of test functions: 1
Number of errors: 0
Number of failures: 0
>
> proc.time()
user system elapsed
10.681 0.592 11.283
annotate.Rcheck/annotate-Ex.timings
| name | user | system | elapsed | |
| ACCNUMStats | 2.080 | 0.027 | 2.107 | |
| GO2heatmap | 0.132 | 0.013 | 0.145 | |
| GOmnplot | 0.057 | 0.007 | 0.064 | |
| HTMLPage-class | 0 | 0 | 0 | |
| LL2homology | 0.000 | 0.001 | 0.000 | |
| PMIDAmat | 0.097 | 0.008 | 0.108 | |
| PWAmat | 1.329 | 0.063 | 1.393 | |
| UniGeneQuery | 0.001 | 0.001 | 0.001 | |
| accessionToUID | 0.418 | 0.031 | 4.798 | |
| annPkgName | 0 | 0 | 0 | |
| aqListGOIDs | 0.077 | 0.009 | 0.086 | |
| blastSequences | 466.306 | 1.641 | 572.200 | |
| buildChromLocation | 1.228 | 0.064 | 1.298 | |
| buildPubMedAbst | 0.040 | 0.003 | 1.087 | |
| chrCats | 6.869 | 0.038 | 6.973 | |
| chromLocation-class | 0.689 | 0.073 | 0.776 | |
| compatibleVersions | 0.049 | 0.004 | 0.054 | |
| dropECode | 0.050 | 0.003 | 0.054 | |
| entrezGeneByID | 0.000 | 0.000 | 0.001 | |
| entrezGeneQuery | 0.000 | 0.001 | 0.001 | |
| filterGOByOntology | 0.051 | 0.003 | 0.055 | |
| findNeighbors | 0.026 | 0.004 | 0.032 | |
| genbank | 0.184 | 0.014 | 1.642 | |
| getAnnMap | 0.036 | 0.007 | 0.047 | |
| getEvidence | 0.038 | 0.002 | 0.041 | |
| getGOTerm | 0.173 | 0.009 | 0.185 | |
| getOntology | 0.043 | 0.003 | 0.046 | |
| getPMInfo | 0.298 | 0.006 | 1.339 | |
| getSYMBOL | 0.129 | 0.024 | 0.159 | |
| getSeq4Acc | 0.021 | 0.002 | 0.702 | |
| hasGOannote | 0.023 | 0.002 | 0.024 | |
| hgByChroms | 0.025 | 0.003 | 0.027 | |
| hgCLengths | 0.002 | 0.002 | 0.004 | |
| hgu95Achroloc | 0.100 | 0.006 | 0.106 | |
| hgu95Achrom | 0.106 | 0.007 | 0.116 | |
| hgu95All | 0.096 | 0.005 | 0.102 | |
| hgu95Asym | 0.099 | 0.005 | 0.108 | |
| homoData-class | 0.002 | 0.000 | 0.003 | |
| htmlpage | 0.022 | 0.003 | 0.024 | |
| isValidkey | 0.001 | 0.000 | 0.001 | |
| makeAnchor | 0.001 | 0.000 | 0.000 | |
| organism | 0.871 | 0.055 | 0.939 | |
| p2LL | 0 | 0 | 0 | |
| pm.abstGrep | 0.460 | 0.029 | 1.915 | |
| pm.getabst | 0.644 | 0.019 | 2.261 | |
| pm.titles | 0.940 | 0.042 | 2.434 | |
| pmAbst2HTML | 0.070 | 0.007 | 1.228 | |
| pmid2MIAME | 0.000 | 0.000 | 0.001 | |
| pmidQuery | 0.001 | 0.000 | 0.001 | |
| pubMedAbst-class | 0.039 | 0.004 | 1.103 | |
| pubmed | 0.030 | 0.004 | 0.837 | |
| readGEOAnn | 0.001 | 0.000 | 0.000 | |
| serializeEnv | 0.002 | 0.000 | 0.002 | |
| setRepository | 0.001 | 0.001 | 0.002 | |
| updateSymbolsToValidKeys | 0.000 | 0.000 | 0.001 | |
| usedChromGenes | 0.118 | 0.007 | 0.125 | |