Package: CSSQ Version: 1.16.0 Command: /Library/Frameworks/R.framework/Resources/bin/R CMD build --keep-empty-dirs --no-resave-data CSSQ StartedAt: 2024-10-16 22:29:38 -0400 (Wed, 16 Oct 2024) EndedAt: 2024-10-16 22:30:47 -0400 (Wed, 16 Oct 2024) EllapsedTime: 68.8 seconds RetCode: 0 Status: OK PackageFile: CSSQ_1.16.0.tar.gz PackageFileSize: 866 KiB