Package: CeTF Version: 1.16.0 Command: /Library/Frameworks/R.framework/Resources/bin/R CMD INSTALL CeTF StartedAt: 2024-10-16 18:56:25 -0400 (Wed, 16 Oct 2024) EndedAt: 2024-10-16 18:57:28 -0400 (Wed, 16 Oct 2024) EllapsedTime: 63.3 seconds RetCode: 0 Status: OK