Package: CeTF Version: 1.16.0 Command: /Library/Frameworks/R.framework/Resources/bin/R CMD INSTALL CeTF StartedAt: 2024-10-16 16:49:58 -0400 (Wed, 16 Oct 2024) EndedAt: 2024-10-16 16:52:08 -0400 (Wed, 16 Oct 2024) EllapsedTime: 130.1 seconds RetCode: 0 Status: OK