Package: ChromHeatMap Version: 1.58.0 Command: F:\biocbuild\bbs-3.19-bioc\R\bin\R.exe CMD INSTALL ChromHeatMap StartedAt: 2024-06-26 16:04:11 -0400 (Wed, 26 Jun 2024) EndedAt: 2024-06-26 16:05:00 -0400 (Wed, 26 Jun 2024) EllapsedTime: 48.7 seconds RetCode: 0 Status: OK