Package: DelayedMatrixStats Version: 1.26.0 Command: E:\biocbuild\bbs-3.19-bioc\R\bin\R.exe CMD INSTALL DelayedMatrixStats StartedAt: 2024-10-16 16:26:04 -0400 (Wed, 16 Oct 2024) EndedAt: 2024-10-16 16:27:44 -0400 (Wed, 16 Oct 2024) EllapsedTime: 99.5 seconds RetCode: 0 Status: OK