Package: MSnbase Version: 2.30.1 Command: /home/biocbuild/R/R-beta-2024-04-15_r86425/bin/R CMD build --keep-empty-dirs --no-resave-data MSnbase StartedAt: 2024-05-09 01:57:14 -0000 (Thu, 09 May 2024) EndedAt: 2024-05-09 02:01:35 -0000 (Thu, 09 May 2024) EllapsedTime: 261.3 seconds RetCode: 0 Status: OK PackageFile: MSnbase_2.30.1.tar.gz PackageFileSize: 4.774 MiB