Package: MetaboCoreUtils Version: 1.12.0 Command: /Library/Frameworks/R.framework/Resources/bin/R CMD INSTALL MetaboCoreUtils StartedAt: 2024-10-16 15:27:42 -0400 (Wed, 16 Oct 2024) EndedAt: 2024-10-16 15:27:55 -0400 (Wed, 16 Oct 2024) EllapsedTime: 12.8 seconds RetCode: 0 Status: OK