Package: MultiRNAflow Version: 1.2.0 Command: /Library/Frameworks/R.framework/Resources/bin/R CMD build --keep-empty-dirs --no-resave-data MultiRNAflow StartedAt: 2024-06-10 01:25:10 -0400 (Mon, 10 Jun 2024) EndedAt: 2024-06-10 02:05:10 -0400 (Mon, 10 Jun 2024) EllapsedTime: 2400.4 seconds RetCode: None Status: TIMEOUT PackageFile: None PackageFileSize: NA