Package: NanoStringDiff Version: 1.34.0 Command: /Library/Frameworks/R.framework/Resources/bin/R CMD build --keep-empty-dirs --no-resave-data NanoStringDiff StartedAt: 2024-10-16 21:31:13 -0400 (Wed, 16 Oct 2024) EndedAt: 2024-10-16 21:32:12 -0400 (Wed, 16 Oct 2024) EllapsedTime: 58.6 seconds RetCode: 0 Status: OK PackageFile: NanoStringDiff_1.34.0.tar.gz PackageFileSize: 416.5 KiB