Package: Rcollectl Version: 1.4.0 Command: /home/biocbuild/R/R-beta-2024-04-15_r86425/bin/R CMD INSTALL Rcollectl StartedAt: 2024-05-08 20:10:38 -0000 (Wed, 08 May 2024) EndedAt: 2024-05-08 20:10:48 -0000 (Wed, 08 May 2024) EllapsedTime: 10.0 seconds RetCode: 0 Status: OK