Package: SeqArray Version: 1.44.3 Command: /Library/Frameworks/R.framework/Resources/bin/R CMD build --keep-empty-dirs --no-resave-data SeqArray StartedAt: 2024-10-17 09:05:00 -0400 (Thu, 17 Oct 2024) EndedAt: 2024-10-17 09:09:35 -0400 (Thu, 17 Oct 2024) EllapsedTime: 274.4 seconds RetCode: 0 Status: OK PackageFile: SeqArray_1.44.3.tar.gz PackageFileSize: 3.698 MiB