Package: SparseArray Version: 1.4.8 Command: E:\biocbuild\bbs-3.19-bioc\R\bin\R.exe CMD INSTALL SparseArray StartedAt: 2024-10-16 16:09:10 -0400 (Wed, 16 Oct 2024) EndedAt: 2024-10-16 16:10:47 -0400 (Wed, 16 Oct 2024) EllapsedTime: 96.7 seconds RetCode: 0 Status: OK