Package: Uniquorn Version: 2.24.0 Command: /home/biocbuild/R/R-beta-2024-04-15_r86425/bin/R CMD INSTALL Uniquorn StartedAt: 2024-05-08 20:27:53 -0000 (Wed, 08 May 2024) EndedAt: 2024-05-08 20:28:48 -0000 (Wed, 08 May 2024) EllapsedTime: 54.2 seconds RetCode: 0 Status: OK