Package: VarCon Version: 1.12.0 Command: /Library/Frameworks/R.framework/Resources/bin/R CMD INSTALL VarCon StartedAt: 2024-06-09 15:22:57 -0400 (Sun, 09 Jun 2024) EndedAt: 2024-06-09 15:23:46 -0400 (Sun, 09 Jun 2024) EllapsedTime: 49.0 seconds RetCode: 0 Status: OK