Package: annotate Version: 1.82.0 Command: E:\biocbuild\bbs-3.19-bioc\R\bin\R.exe CMD INSTALL annotate StartedAt: 2024-10-16 16:17:05 -0400 (Wed, 16 Oct 2024) EndedAt: 2024-10-16 16:18:03 -0400 (Wed, 16 Oct 2024) EllapsedTime: 57.7 seconds RetCode: 0 Status: OK