Package: biscuiteer Version: 1.18.0 Command: /Library/Frameworks/R.framework/Resources/bin/R CMD INSTALL biscuiteer StartedAt: 2024-10-16 15:55:02 -0400 (Wed, 16 Oct 2024) EndedAt: 2024-10-16 15:57:43 -0400 (Wed, 16 Oct 2024) EllapsedTime: 161.1 seconds RetCode: 0 Status: OK