Package: branchpointer Version: 1.30.0 Command: /Library/Frameworks/R.framework/Resources/bin/R CMD build --keep-empty-dirs --no-resave-data branchpointer StartedAt: 2024-06-09 18:54:30 -0400 (Sun, 09 Jun 2024) EndedAt: 2024-06-09 18:56:18 -0400 (Sun, 09 Jun 2024) EllapsedTime: 107.9 seconds RetCode: 1 Status: ERROR PackageFile: None PackageFileSize: NA